BEGIN:VCALENDAR
VERSION:2.0
PRODID:-//Sisters of Life - ECPv6.15.20//NONSGML v1.0//EN
CALSCALE:GREGORIAN
METHOD:PUBLISH
X-ORIGINAL-URL:https://sistersoflife.org
X-WR-CALDESC:Events for Sisters of Life
REFRESH-INTERVAL;VALUE=DURATION:PT1H
X-Robots-Tag:noindex
X-PUBLISHED-TTL:PT1H
BEGIN:VTIMEZONE
TZID:America/New_York
BEGIN:DAYLIGHT
TZOFFSETFROM:-0500
TZOFFSETTO:-0400
TZNAME:EDT
DTSTART:20230312T070000
END:DAYLIGHT
BEGIN:STANDARD
TZOFFSETFROM:-0400
TZOFFSETTO:-0500
TZNAME:EST
DTSTART:20231105T060000
END:STANDARD
BEGIN:DAYLIGHT
TZOFFSETFROM:-0500
TZOFFSETTO:-0400
TZNAME:EDT
DTSTART:20240310T070000
END:DAYLIGHT
BEGIN:STANDARD
TZOFFSETFROM:-0400
TZOFFSETTO:-0500
TZNAME:EST
DTSTART:20241103T060000
END:STANDARD
BEGIN:DAYLIGHT
TZOFFSETFROM:-0500
TZOFFSETTO:-0400
TZNAME:EDT
DTSTART:20250309T070000
END:DAYLIGHT
BEGIN:STANDARD
TZOFFSETFROM:-0400
TZOFFSETTO:-0500
TZNAME:EST
DTSTART:20251102T060000
END:STANDARD
END:VTIMEZONE
BEGIN:VTIMEZONE
TZID:UTC
BEGIN:STANDARD
TZOFFSETFROM:+0000
TZOFFSETTO:+0000
TZNAME:UTC
DTSTART:20230101T000000
END:STANDARD
END:VTIMEZONE
BEGIN:VEVENT
DTSTART;VALUE=DATE:20240703
DTEND;VALUE=DATE:20240717
DTSTAMP:20260424T051922
CREATED:20240222T164742Z
LAST-MODIFIED:20240222T164742Z
UID:12192-1719964800-1721174399@sistersoflife.org
SUMMARY:Poland Summer Pilgrimage (Women)
DESCRIPTION:Join FOCUS and the Sisters of Life for a Summer Pilgrimage opportunity!\nPoland is yours to explore this summer as we build a culture of life by following in the footsteps of St. John Paul II.\nSee the sites of St. Maximilian Kolbe’s Marytown\, Czestochowa\, Auschwitz\, the Divine Mercy Shrine\, St. John Paul II’s hometown\, and more!
URL:https://sistersoflife.org/event/poland-summer-pilgrimage-women-2024/
LOCATION:Poland\, Poland
CATEGORIES:Pilgrimage,Women
END:VEVENT
BEGIN:VEVENT
DTSTART;TZID=UTC:20240712T110000
DTEND;TZID=UTC:20240713T130000
DTSTAMP:20260424T051922
CREATED:20240229T210634Z
LAST-MODIFIED:20240229T210634Z
UID:12312-1720782000-1720875600@sistersoflife.org
SUMMARY:Marian Days 2024
DESCRIPTION:Schedule:\nFriday\, July 12th – Saturday\, July 13th\n\nSisters at Marian Days in Garden Grove\, CA\n\nVisit https://melavangoc.com/ for more information
URL:https://sistersoflife.org/event/marian-days-2024/
LOCATION:California\, California
CATEGORIES:Conference,Evangelization
END:VEVENT
BEGIN:VEVENT
DTSTART;TZID=UTC:20240717T110000
DTEND;TZID=UTC:20240721T130000
DTSTAMP:20260424T051922
CREATED:20240229T211245Z
LAST-MODIFIED:20240229T211245Z
UID:12314-1721214000-1721566800@sistersoflife.org
SUMMARY:National Eucharistic Congress
DESCRIPTION:Schedule:\nWednesday\, July 17th – Sunday\, July 21st\n\nSisters at the National Eucharistic Congress in Indianapolis\, IN\n\nVisit https://www.eucharisticcongress.org/ for more information
URL:https://sistersoflife.org/event/national-eucharistic-congress/
LOCATION:Indiana
CATEGORIES:Conference,Evangelization
END:VEVENT
BEGIN:VEVENT
DTSTART;TZID=UTC:20240725T190000
DTEND;TZID=UTC:20240725T200000
DTSTAMP:20260424T051922
CREATED:20231010T215722Z
LAST-MODIFIED:20231010T215722Z
UID:11637-1721934000-1721937600@sistersoflife.org
SUMMARY:The Source Toronto
DESCRIPTION:The Source Holy Hour with music by the Sisters of Life\nJOIN THE EUCHARISTIC REVIVAL!\n\nWe invite you to join the Sisters of Life and the National Eucharistic Revival as we unite around the source and summit of our faith— Jesus in the Holy Eucharist.
URL:https://sistersoflife.org/event/the-source-toronto-17/
LOCATION:St. Peter’s Catholic Church\, Toronto\, ON\, 840 Bathurst St.\, Toronto\, Ontario\, M6G 2M1\, Canada
CATEGORIES:Pray with Us
END:VEVENT
END:VCALENDAR