BEGIN:VCALENDAR
VERSION:2.0
PRODID:-//Sisters of Life - ECPv6.15.20//NONSGML v1.0//EN
CALSCALE:GREGORIAN
METHOD:PUBLISH
X-WR-CALNAME:Sisters of Life
X-ORIGINAL-URL:https://sistersoflife.org
X-WR-CALDESC:Events for Sisters of Life
REFRESH-INTERVAL;VALUE=DURATION:PT1H
X-Robots-Tag:noindex
X-PUBLISHED-TTL:PT1H
BEGIN:VTIMEZONE
TZID:UTC
BEGIN:STANDARD
TZOFFSETFROM:+0000
TZOFFSETTO:+0000
TZNAME:UTC
DTSTART:20230101T000000
END:STANDARD
END:VTIMEZONE
BEGIN:VTIMEZONE
TZID:America/New_York
BEGIN:DAYLIGHT
TZOFFSETFROM:-0500
TZOFFSETTO:-0400
TZNAME:EDT
DTSTART:20230312T070000
END:DAYLIGHT
BEGIN:STANDARD
TZOFFSETFROM:-0400
TZOFFSETTO:-0500
TZNAME:EST
DTSTART:20231105T060000
END:STANDARD
BEGIN:DAYLIGHT
TZOFFSETFROM:-0500
TZOFFSETTO:-0400
TZNAME:EDT
DTSTART:20240310T070000
END:DAYLIGHT
BEGIN:STANDARD
TZOFFSETFROM:-0400
TZOFFSETTO:-0500
TZNAME:EST
DTSTART:20241103T060000
END:STANDARD
BEGIN:DAYLIGHT
TZOFFSETFROM:-0500
TZOFFSETTO:-0400
TZNAME:EDT
DTSTART:20250309T070000
END:DAYLIGHT
BEGIN:STANDARD
TZOFFSETFROM:-0400
TZOFFSETTO:-0500
TZNAME:EST
DTSTART:20251102T060000
END:STANDARD
END:VTIMEZONE
BEGIN:VEVENT
DTSTART;TZID=UTC:20241217T190000
DTEND;TZID=UTC:20241217T200000
DTSTAMP:20260424T040420
CREATED:20240913T162055Z
LAST-MODIFIED:20240913T162055Z
UID:13118-1734462000-1734465600@sistersoflife.org
SUMMARY:The Source Phoenix
DESCRIPTION:The Source Holy Hour with music by the Sisters of Life\nJOIN THE EUCHARISTIC REVIVAL!\n\nWe invite you to join the Sisters of Life and the National Eucharistic Revival as we unite around the source and summit of our faith— Jesus in the Holy Eucharist.
URL:https://sistersoflife.org/event/the-source-phoenix-dec24/
LOCATION:St. Agnes Catholic Church\, Phoenix\, AZ\, 1954 N. 24th St.\, Phoenix\, AZ\, 85006\, United States
CATEGORIES:Pray with Us
END:VEVENT
BEGIN:VEVENT
DTSTART;TZID=UTC:20241216T080000
DTEND;TZID=UTC:20241216T163000
DTSTAMP:20260424T040420
CREATED:20240903T205455Z
LAST-MODIFIED:20240903T205455Z
UID:12993-1734336000-1734366600@sistersoflife.org
SUMMARY:Pro-Life Leader Conference and Retreat
DESCRIPTION:Monday\, December 16th\n\nPro-Life Leader Conference & Retreat; Catholic Diocese of Harrisburg\, Prayer and Reflections by Sisters of Life
URL:https://sistersoflife.org/event/pro-life-leader-conference-and-retreat/
LOCATION:Pennsylvania
CATEGORIES:Conference,Evangelization,Retreats
END:VEVENT
BEGIN:VEVENT
DTSTART;TZID=UTC:20241214T183000
DTEND;TZID=UTC:20241214T193000
DTSTAMP:20260424T040420
CREATED:20240823T205603Z
LAST-MODIFIED:20240823T205603Z
UID:12873-1734201000-1734204600@sistersoflife.org
SUMMARY:The Source Philadelphia
DESCRIPTION:The Source Holy Hour with music by the Sisters of Life\nJOIN THE EUCHARISTIC REVIVAL!\n\nWe invite you to join the Sisters of Life and the National Eucharistic Revival as we unite around the source and summit of our faith— Jesus in the Holy Eucharist.
URL:https://sistersoflife.org/event/the-source-philadelphia-dec2024/
LOCATION:St. Malachy’s Catholic Church\, Philadeliphia\, PA\, 1429 N. 11th Street\, Philadelphia\, PA\, 19122
CATEGORIES:Pray with Us
END:VEVENT
BEGIN:VEVENT
DTSTART;TZID=UTC:20241214T100000
DTEND;TZID=UTC:20241214T130000
DTSTAMP:20260424T040420
CREATED:20241109T210645Z
LAST-MODIFIED:20241109T210645Z
UID:13289-1734170400-1734181200@sistersoflife.org
SUMMARY:Feminine Genius Brunch
DESCRIPTION:Feminine Genius Brunch\n\nDate: Saturday\, December 14th\, 2024\nTime: 10:00am to 1:00pm\nLocation: Our Lady of Mount Carmel Parish Center\, 90 Euclid Avenue\, Middletown\, NY 10940\nWebsite: https://www.eventbrite.com/e/feminine-genius-brunch-2024-tickets-856404036527\n\nAll women are invited to the Feminine Genius Brunch! This brunch borrows its name from those amazing God-given attributes endowed to you as women – receptivity\, sensitivity\, generosity\, and maternity – all of which make up the feminine genius. Sr. Mary Gabriel\, SV will give a talk on the beauty of the feminine heart. Come discover God’s plan for your ultimate flourishing! Invite a friend\, mother\, sister\, or daughter. Register by December 10th at adnyfemininegeniusbrunch.eventbrite.com. Please contact sr.anne.marie@archny.org with any questions.
URL:https://sistersoflife.org/event/feminine-genius-brunch-3/
LOCATION:Our Lady of Mount Carmel Parish Center\, 90 Euclid Avenue\, Middletown\, NY\, 10940
CATEGORIES:Women
END:VEVENT
BEGIN:VEVENT
DTSTART;TZID=UTC:20241213T190000
DTEND;TZID=UTC:20241213T200000
DTSTAMP:20260424T040420
CREATED:20240615T213826Z
LAST-MODIFIED:20240615T213842Z
UID:12618-1734116400-1734120000@sistersoflife.org
SUMMARY:The Source NYC – St. Patrick’s Cathedral
DESCRIPTION:The Source Holy Hour at St. Patrick’s Cathedral with music by the Sisters of Life\nJOIN THE EUCHARISTIC REVIVAL!\n\nWe invite you to join the Sisters of Life and the National Eucharistic Revival as we unite around the source and summit of our faith— Jesus in the Holy Eucharist.
URL:https://sistersoflife.org/event/the-source-nyc-st-patricks-cathedral-dec-2024/
LOCATION:St. Patrick’s Cathedral\, NYC\, 5th Ave\, New York\, NY\, United States
CATEGORIES:Pray with Us
END:VEVENT
BEGIN:VEVENT
DTSTART;TZID=UTC:20241205T110000
DTEND;TZID=UTC:20241209T130000
DTSTAMP:20260424T040420
CREATED:20240831T163831Z
LAST-MODIFIED:20241207T163221Z
UID:12920-1733396400-1733749200@sistersoflife.org
SUMMARY:Advent Mission: North Carolina!
DESCRIPTION:**Please join us at any of the below public events. We are unable to add any additional events during this trip. We look forward to seeing you while we’re in North Carolina!** \nSchedule:\nThursday\, December 5th\n\n\n\nParish Mission at St. Peter in Greenville – 7pm talk by the Sisters\, followed by 7:30pm Adoration and 8:30pm Social\n\n\n\nFriday\, December 6th\n\n\n\nSchool visit to St. Raphael the Archangel in Raleigh\nCampus visit to Duke University\n\n\n\nSaturday\, December 7th\n\n\n\nCampus visit to Duke University\nParish Retreat at Our Lady of Grace Parish (12pm-3:45pm) (NOT St. Pius X) in Greensboro (more details forthcoming)
URL:https://sistersoflife.org/event/sisters-visiting-northcarolina-2024/
LOCATION:North Carolina
CATEGORIES:Campus visit,Evangelization,Parish Mission,Pray with Us
END:VEVENT
BEGIN:VEVENT
DTSTART;TZID=UTC:20241205T110000
DTEND;TZID=UTC:20241209T130000
DTSTAMP:20260424T040420
CREATED:20240831T163506Z
LAST-MODIFIED:20241119T212854Z
UID:12921-1733396400-1733749200@sistersoflife.org
SUMMARY:Advent Mission: Wisconsin!
DESCRIPTION:**Please join us at any of the below public events. We are unable to add any additional events during this trip. We look forward to seeing you while we’re in Wisconsin!** \nSchedule:\nThursday\, December 5th\n\n\n\nParish Mission at St. Francis de Sales in Lake Geneva – 6pm Potluck\, followed by 7pm Talk by the Sisters and 7:30pm Adoration with music\n\n\n\nFriday\, December 6th\n\n\n\nSchool Visit – Divine Savior High School in Milwaukee\nSchool Visit – Marquette High School in Milwaukee\nParish Mission at St. Jerome in Oconomowoc – 6pm Fish Fry\, followed by 7pm Talk by the Sisters and 7:30pm Adoration with music\n\n\n\nSaturday\, December 7th\n\n\n\nFeminine Genius Brunch at Bethany House in Milwaukee\nParish Mission at Immaculate Conception in Milwaukee – 4:30pm Mass\, 5:30pm Potluck\, followed by 7pm Talk by the Sisters and7:30pm Adoration with music\n\n\n\nSunday\, December 8th\n\n\n\nParish mission at St. Francis Xavier in Lake Mills – 9:45am Talk by a Sister\, followed by 10:30am Mass\nOur Lady of Guadalupe Mass and Reception at St. Bernard in Watertown\nParish Mission at St. John Vianney in Brookfield – 6:15pm Potluck\, followed by 7pm Talk by the Sisters and 7:30pm Adoration with music
URL:https://sistersoflife.org/event/sisters-visiting-wisconsin-2024/
LOCATION:Wisconsin\, Wisconsin
CATEGORIES:Campus visit,Evangelization,Parish Mission,Pray with Us
END:VEVENT
BEGIN:VEVENT
DTSTART;TZID=UTC:20241202T110000
DTEND;TZID=UTC:20241205T130000
DTSTAMP:20260424T040420
CREATED:20240831T163346Z
LAST-MODIFIED:20240831T163346Z
UID:12922-1733137200-1733403600@sistersoflife.org
SUMMARY:Sisters visiting Tennessee!
DESCRIPTION:**Please join us at any of the below public events. We are unable to add any additional events during this trip. We look forward to seeing you while we’re in Tennessee!** \nSchedule:\nMonday\, December 2nd – Thursday\, December 5th\n\n\n\nMore details forthcoming
URL:https://sistersoflife.org/event/sisters-visiting-tennessee-2024/
LOCATION:Tennessee
CATEGORIES:Campus visit,Evangelization,Pray with Us
END:VEVENT
BEGIN:VEVENT
DTSTART;TZID=UTC:20241130T180000
DTEND;TZID=UTC:20241130T210000
DTSTAMP:20260424T040420
CREATED:20240916T164852Z
LAST-MODIFIED:20241127T035733Z
UID:13218-1732989600-1733000400@sistersoflife.org
SUMMARY:CANCELLED Women’s Dinner & Holy Hour\, Denver\, CO
DESCRIPTION:CANCELLED Women’s Dinner & Holy Hour\nSorry for the inconvenience! We had to cancel this event. Thank you so much for your understanding. Know of our prayers!
URL:https://sistersoflife.org/event/womens-dinner-holy-hour-denver-co/
LOCATION:2771 Zenobia St. Denver\, CO 80212
CATEGORIES:Pray with Us,Women
END:VEVENT
BEGIN:VEVENT
DTSTART;TZID=UTC:20241121T190000
DTEND;TZID=UTC:20241121T200000
DTSTAMP:20260424T040420
CREATED:20240914T161835Z
LAST-MODIFIED:20240914T161835Z
UID:13140-1732215600-1732219200@sistersoflife.org
SUMMARY:The Source Toronto
DESCRIPTION:The Source Holy Hour with music by the Sisters of Life\nJOIN THE EUCHARISTIC REVIVAL!\n\nWe invite you to join the Sisters of Life and the National Eucharistic Revival as we unite around the source and summit of our faith— Jesus in the Holy Eucharist.
URL:https://sistersoflife.org/event/the-source-toronto-nov24/
LOCATION:St. Peter’s Catholic Church\, Toronto\, ON\, 840 Bathurst St.\, Toronto\, Ontario\, M6G 2M1\, Canada
CATEGORIES:Pray with Us
END:VEVENT
BEGIN:VEVENT
DTSTART;TZID=UTC:20241121T110000
DTEND;TZID=UTC:20241124T130000
DTSTAMP:20260424T040420
CREATED:20240831T163129Z
LAST-MODIFIED:20241119T162301Z
UID:12916-1732186800-1732453200@sistersoflife.org
SUMMARY:Sisters visiting North Dakota!
DESCRIPTION:**Please join us at any of the below public events. We are unable to add any additional events during this trip. We look forward to seeing you while we’re in North Dakota!** \nSchedule:\nThursday\, November 21st – Sunday\, November 24th\n\n\n\nCampus visit to NDSU
URL:https://sistersoflife.org/event/sisters-visiting-northdakota/
LOCATION:North Dakota\, North Dakota
CATEGORIES:Campus visit,Evangelization,Pray with Us
END:VEVENT
BEGIN:VEVENT
DTSTART;TZID=UTC:20241121T110000
DTEND;TZID=UTC:20241124T130000
DTSTAMP:20260424T040420
CREATED:20240831T162933Z
LAST-MODIFIED:20241119T165657Z
UID:12917-1732186800-1732453200@sistersoflife.org
SUMMARY:Sisters visiting Michigan!
DESCRIPTION:**Please join us at any of the below public events. We are unable to add any additional events during this trip. We look forward to seeing you while we’re in Michigan!** \nSchedule:\nThursday\, November 21st\n\n\n\nAIP Speaker Series at St. John’s Resort (more details about the event here)\n\n\n\nFriday\, November 22nd\n\n\n\nParish Mission at St. Timothy in Trenton – 6:30pm Talk by the Sisters\, followed by Adoration at 7pm\n\n\n\nSaturday\, November 23rd\n\n\n\nRespect Life Leaders Retreat at Our Lady of Victory in Northville\n\n8:00am Registration\n8:15am Rosary\n9:00am Breakfast\n9:30am Talk by the Sisters\n10:20am Talk by the Sisters\n11:00am Q&A\n11:45am Mass\n\n\nCampus Visit – University of Michigan\n\n\n\nSunday\, November 24th\n\n\n\nYoung Adult Event at St. John Fisher University Parish – 10:00am Student/Family Mass\, 11:20am Talk by the Sisters\, followed by Q&A
URL:https://sistersoflife.org/event/sisters-visiting-michigan-2024/
LOCATION:Michigan\, Michigan
CATEGORIES:Campus visit,Evangelization,Parish Mission,Pray with Us
END:VEVENT
BEGIN:VEVENT
DTSTART;TZID=UTC:20241119T190000
DTEND;TZID=UTC:20241119T210000
DTSTAMP:20260424T040420
CREATED:20241119T162750Z
LAST-MODIFIED:20241119T162750Z
UID:13301-1732042800-1732050000@sistersoflife.org
SUMMARY:Fountain of Life Holy Hour
DESCRIPTION:Join us for this Fountain of Life Holy Hour – a time to encounter Jesus and receive His gifts of life\, love\, and mercy. Sponsored by the Archdiocese of New York Respect Life Office\, the evening will include a Reflection by the Sisters of Life\, Eucharistic Adoration with Music\, and Confession. \n\nLocation: St. Theresa of the Infant Jesus Parish\, 1394 Pleasantville Road\, Briarcliff\, NY 10510 \nTime: 7pm \nFind more details here: https://archny.org/event/fountain-of-life-holy-hour/
URL:https://sistersoflife.org/event/fountain-of-life-holy-hour/
LOCATION:St. Theresa of the Infant Jesus Parish\, 1394 Pleasantville Road\, Briarcliff\, NY\, 10510
CATEGORIES:Pray with Us
END:VEVENT
BEGIN:VEVENT
DTSTART;TZID=UTC:20241119T190000
DTEND;TZID=UTC:20241119T200000
DTSTAMP:20260424T040420
CREATED:20240913T162022Z
LAST-MODIFIED:20240913T162022Z
UID:13119-1732042800-1732046400@sistersoflife.org
SUMMARY:The Source Phoenix
DESCRIPTION:The Source Holy Hour with music by the Sisters of Life\nJOIN THE EUCHARISTIC REVIVAL!\n\nWe invite you to join the Sisters of Life and the National Eucharistic Revival as we unite around the source and summit of our faith— Jesus in the Holy Eucharist.
URL:https://sistersoflife.org/event/the-source-phoenix-nov24/
LOCATION:St. Agnes Catholic Church\, Phoenix\, AZ\, 1954 N. 24th St.\, Phoenix\, AZ\, 85006\, United States
CATEGORIES:Pray with Us
END:VEVENT
BEGIN:VEVENT
DTSTART;TZID=UTC:20241119T110000
DTEND;TZID=UTC:20241123T130000
DTSTAMP:20260424T040420
CREATED:20240831T162741Z
LAST-MODIFIED:20240831T162741Z
UID:12912-1732014000-1732366800@sistersoflife.org
SUMMARY:Sisters visiting Alabama!
DESCRIPTION:**Please join us at any of the below public events. We are unable to add any additional events during this trip. We look forward to seeing you while we’re in Alabama!** \nSchedule:\nTuesday\, November 19th – Saturday\, November 23rd\n\n\n\nMore details forthcoming
URL:https://sistersoflife.org/event/sisters-visiting-alabama-2024/
LOCATION:Alabama
CATEGORIES:Campus visit,Evangelization,Pray with Us
END:VEVENT
BEGIN:VEVENT
DTSTART;TZID=UTC:20241116T193000
DTEND;TZID=UTC:20241116T203000
DTSTAMP:20260424T040420
CREATED:20240914T160239Z
LAST-MODIFIED:20240914T160239Z
UID:13139-1731785400-1731789000@sistersoflife.org
SUMMARY:The Source Catskill
DESCRIPTION:The Source Holy Hour with music by the Sisters of Life\nJOIN THE EUCHARISTIC REVIVAL!\n\nWe invite you to join the Sisters of Life and the National Eucharistic Revival as we unite around the source and summit of our faith— Jesus in the Holy Eucharist.
URL:https://sistersoflife.org/event/the-source-catskill-nov24/
LOCATION:St. Anthony’s Convent\, Catskill\, NY\, 24 Harrison Street\, Catskill\, 12414
CATEGORIES:Pray with Us
END:VEVENT
BEGIN:VEVENT
DTSTART;TZID=UTC:20241116T190000
DTEND;TZID=UTC:20241116T200000
DTSTAMP:20260424T040420
CREATED:20240615T215204Z
LAST-MODIFIED:20240615T215204Z
UID:12628-1731783600-1731787200@sistersoflife.org
SUMMARY:The Source – Seton Shrine
DESCRIPTION:The Source Holy Hour with music by the Sisters of Life\nJOIN THE EUCHARISTIC REVIVAL!\n\nWe invite you to join the Sisters of Life and the National Eucharistic Revival as we unite around the source and summit of our faith— Jesus in the Holy Eucharist.
URL:https://sistersoflife.org/event/the-source-seton-shrine-nov-2024/
LOCATION:St. Elizabeth Ann Seton Shrine\, NYC\, 7 State Street\, New York\, New York\, 10004
CATEGORIES:Pray with Us
END:VEVENT
BEGIN:VEVENT
DTSTART;TZID=UTC:20241116T183000
DTEND;TZID=UTC:20241116T193000
DTSTAMP:20260424T040420
CREATED:20240823T205512Z
LAST-MODIFIED:20240823T205512Z
UID:12874-1731781800-1731785400@sistersoflife.org
SUMMARY:The Source Philadelphia
DESCRIPTION:The Source Holy Hour with music by the Sisters of Life\nJOIN THE EUCHARISTIC REVIVAL!\n\nWe invite you to join the Sisters of Life and the National Eucharistic Revival as we unite around the source and summit of our faith— Jesus in the Holy Eucharist.
URL:https://sistersoflife.org/event/the-source-philadelphia-nov2024/
LOCATION:St. Malachy’s Catholic Church\, Philadeliphia\, PA\, 1429 N. 11th Street\, Philadelphia\, PA\, 19122
CATEGORIES:Pray with Us
END:VEVENT
BEGIN:VEVENT
DTSTART;TZID=America/New_York:20241115T173000
DTEND;TZID=America/New_York:20241117T130000
DTSTAMP:20260424T040420
CREATED:20240916T155403Z
LAST-MODIFIED:20240916T155403Z
UID:13189-1731691800-1731848400@sistersoflife.org
SUMMARY:Women’s Retreat\, Stamford CT
DESCRIPTION:A time to step out of the busy-ness of ordinary life to encounter the love\, peace\, and mercy of Jesus in a new way. \nOPEN TO WOMEN AGES 18 AND OVER \nA weekend of silence and prayer for women ages 18 and over\, this retreat includes time and space to encounter the Lord\, Mass on Saturday and Sunday\, opportunities for Sacramental Confession\, and Eucharistic adoration. The Sisters will give conferences throughout on topics such as Introduction to Prayer and The Feminine Heart. The silence is broken only for these conferences\, and for a personal meeting with a Sister\, should you desire it. \nPLEASE READ THE FOLLOWING INFORMATION: \nDeposit Information: We ask for a nonrefundable deposit to confirm your registration. \nRetreatants typically deposit $50*\, as a portion of their total retreat donation. You are welcome to make your full donation at this time\, or upon arrival at the retreat house. \nWhile Villa Maria Guadalupe is donation only\, it may be helpful to know that the total expense for one person over a weekend is about $200. \n(I.e. a $50 deposit and a $150 donation\, totaling $200\, would cover the entire cost of your retreat). We are grateful for whatever you are willing/able to give! \n*Exceptions: We do not want a “cost” to keep anyone from coming on retreat! If you feel unable to deposit\, please call us at (203) 329-1492\, and we’d be very happy to speak with you!
URL:https://sistersoflife.org/event/womens-retreat-stamford-ct-nov2024/
LOCATION:Villa Maria Guadalupe Retreat Center\, Stamford\, CT\, 159 Sky Meadow Drive\, Stamford\, CT\, 06903\, United States
CATEGORIES:Pray with Us,Retreats
END:VEVENT
BEGIN:VEVENT
DTSTART;TZID=UTC:20241115T170000
DTEND;TZID=UTC:20241117T120000
DTSTAMP:20260424T040420
CREATED:20240831T162533Z
LAST-MODIFIED:20240916T162137Z
UID:12913-1731690000-1731844800@sistersoflife.org
SUMMARY:Young Women’s Retreat\, Allenspark\, CO
DESCRIPTION:A time to step out of the busy-ness of ordinary life to encounter the love\, peace\, and mercy of Jesus in a new way.\n\n\n\n\n\nFor Women 18-35 \nArrival begins at 5:00 p.m. on Friday night with the retreat beginning at 6:00 p.m. with dinner. The retreat ends on Sunday after the Holy Sacrifice of the Mass\, about 12:00 p.m. \nWEEKEND INCLUDES: Introduction to prayer\, extended periods of silence\, Eucharistic Adoration\, Holy Mass on Saturday and Sunday\, conferences by Sisters\, opportunities for Sacramental Confession\, and the opportunity to meet with a Sister. \nDRESS CODE: Modest dress with appropriate clothes for Sunday. \nTHINGS TO BRING: Bible\, Rosary\, notebook or journal\, sneakers and casual clothes for walks. \nTRANSPORTATION: If you travel by air\, there will be a 3:30 p.m. pick-up at Denver International Airport on Friday and a 1:30 p.m. drop-off on Sunday. We ask that you schedule your flight to arrive at or before 3:00 p.m. on Friday to allow sufficient time for transportation from the terminal to the passenger pickup area at DIA so that we can depart the airport by 3:30 p.m. We recommend that you schedule your departing flight on Sunday no earlier than 4:00 p.m. \nQUESTIONS? Please contact Sr. Lumen Gloriae via email at denver@sistersoflife.org or by phone: (720) 722-3485. \nRegister here
URL:https://sistersoflife.org/event/young-womens-retreat-allenspark-co-2024/
LOCATION:Highlands Camp & Retreat Center\, 1306 Business Highway 7\, Allenspark\, CO\, 80510\, United States
CATEGORIES:Retreats
END:VEVENT
BEGIN:VEVENT
DTSTART;TZID=UTC:20241026T193000
DTEND;TZID=UTC:20241026T203000
DTSTAMP:20260424T040420
CREATED:20240914T160200Z
LAST-MODIFIED:20240914T160200Z
UID:13141-1729971000-1729974600@sistersoflife.org
SUMMARY:The Source Catskill
DESCRIPTION:The Source Holy Hour with music by the Sisters of Life\nJOIN THE EUCHARISTIC REVIVAL!\n\nWe invite you to join the Sisters of Life and the National Eucharistic Revival as we unite around the source and summit of our faith— Jesus in the Holy Eucharist.
URL:https://sistersoflife.org/event/the-source-catskill-oct24/
LOCATION:St. Anthony’s Convent\, Catskill\, NY\, 24 Harrison Street\, Catskill\, 12414
CATEGORIES:Pray with Us
END:VEVENT
BEGIN:VEVENT
DTSTART;TZID=UTC:20241025T173000
DTEND;TZID=UTC:20241027T130000
DTSTAMP:20260424T040420
CREATED:20240916T154714Z
LAST-MODIFIED:20240916T154714Z
UID:13170-1729877400-1730034000@sistersoflife.org
SUMMARY:Ignatian Prayer Retreat\, Stamford\, CT
DESCRIPTION:This is a silent retreat where you will be taught how to pray in the tradition of St. Ignatius of Loyola (meditation\, contemplation\, hearing God’s voice\, explanation of the “Examen” prayer\, etc.) In addition to conferences on prayer given by our chaplain / retreat director\, time will be given for practicing Ignatian meditation. The weekend also includes Mass on Saturday and Sunday\, opportunities for Sacramental Confession and Eucharistic adoration.
URL:https://sistersoflife.org/event/ignatian-prayer-retreat-stamford-ct-oct2024/
LOCATION:Villa Maria Guadalupe Retreat Center\, Stamford\, CT\, 159 Sky Meadow Drive\, Stamford\, CT\, 06903\, United States
CATEGORIES:Pray with Us,Retreats
END:VEVENT
BEGIN:VEVENT
DTSTART;TZID=UTC:20241024T190000
DTEND;TZID=UTC:20241024T200000
DTSTAMP:20260424T040420
CREATED:20240914T161805Z
LAST-MODIFIED:20240914T161805Z
UID:13142-1729796400-1729800000@sistersoflife.org
SUMMARY:The Source Toronto
DESCRIPTION:The Source Holy Hour with music by the Sisters of Life\nJOIN THE EUCHARISTIC REVIVAL!\n\nWe invite you to join the Sisters of Life and the National Eucharistic Revival as we unite around the source and summit of our faith— Jesus in the Holy Eucharist.
URL:https://sistersoflife.org/event/the-source-toronto-oct24/
LOCATION:St. Peter’s Catholic Church\, Toronto\, ON\, 840 Bathurst St.\, Toronto\, Ontario\, M6G 2M1\, Canada
CATEGORIES:Pray with Us
END:VEVENT
BEGIN:VEVENT
DTSTART;TZID=UTC:20241024T190000
DTEND;TZID=UTC:20241024T200000
DTSTAMP:20260424T040420
CREATED:20240615T213741Z
LAST-MODIFIED:20240615T213741Z
UID:12615-1729796400-1729800000@sistersoflife.org
SUMMARY:The Source NYC – St. Patrick’s Cathedral
DESCRIPTION:The Source Holy Hour at St. Patrick’s Cathedral with music by the Sisters of Life\nJOIN THE EUCHARISTIC REVIVAL!\n\nWe invite you to join the Sisters of Life and the National Eucharistic Revival as we unite around the source and summit of our faith— Jesus in the Holy Eucharist.
URL:https://sistersoflife.org/event/the-source-nyc-st-patricks-cathedral/
LOCATION:St. Patrick’s Cathedral\, NYC\, 5th Ave\, New York\, NY\, United States
CATEGORIES:Pray with Us
END:VEVENT
BEGIN:VEVENT
DTSTART;TZID=UTC:20241024T110000
DTEND;TZID=UTC:20241027T130000
DTSTAMP:20260424T040420
CREATED:20240831T161921Z
LAST-MODIFIED:20241004T211802Z
UID:12908-1729767600-1730034000@sistersoflife.org
SUMMARY:Sisters visiting San Francisco!
DESCRIPTION:**Please join us at any of the below public events. We are unable to add any additional events during this trip. We look forward to seeing you while we’re in San Francisco!** \nSchedule:\nThursday\, October 24th\n\n\n\nCampus visit – San Francisco State University\n\n\n\nFriday\, October 25th\n\n\n\nSchool Visit – Marin Catholic High School in Kentfield\nParish Mission at St. Hilary’s in Tiburon – 6:30pm Talk by the Sisters\, 7:00pm Adoration with music by the Sisters\, 7:45pm Social\n\n\n\nSaturday\, October 26th\n\n\n\nRetreat Day with Gabriel Project\nParish mission at St. Matthew’s in San Mateo – 6:30pm  Talk by the Sisters\, 7:00pm Small Group discussion\, 7:20pm Q&A\, followed by a social\n\n\n\nSunday\, October 27th\n\n\n\nYoung adult event at St. Dominic’s in San Francisco – 11:30 am Mass\, 12:45-2:00pm Talk by the Sisters\, followed by Q&A and a social
URL:https://sistersoflife.org/event/sisters-visiting-sanfrancisco/
LOCATION:San Francisco
CATEGORIES:Campus visit,Evangelization,Parish Mission,Pray with Us
END:VEVENT
BEGIN:VEVENT
DTSTART;TZID=UTC:20241024T110000
DTEND;TZID=UTC:20241027T130000
DTSTAMP:20260424T040420
CREATED:20240831T161728Z
LAST-MODIFIED:20241007T162006Z
UID:12909-1729767600-1730034000@sistersoflife.org
SUMMARY:Sisters visiting Illinois!
DESCRIPTION:**Please join us at any of the below public events. We are unable to add any additional events during this trip. We look forward to seeing you while we’re in Illinois!** \nSchedule:\nThursday\, October 24th\n\n\n\nParish mission at St. Patrick’s in Washington\, IL – Social at 6:30pm\, Talk by the Sisters at 7pm\, followed by Adoration with music by the Sisters at 7:30pm\n\n\n\nFriday\, October 25th\n\n\n\nCampus visit – University of Illinois-Chicago\n\n\n\nSaturday\, October 26th\n\n\n\nUltimate Women’s Expo (10am-5pm) – more information here\nParish mission at St. Isaac Jogues in Hinsdale – Talk by the Sisters at 7pm\, followed by Adoration with music by the Sisters at 7:30pm and a Social at 8:30pm\n\n\n\nSunday\, October 27th\n\n\n\nUltimate Women’s Expo (11am-5pm) – more information here
URL:https://sistersoflife.org/event/sisters-visiting-illinois-2024/
LOCATION:Illinois\, Illinois
CATEGORIES:Campus visit,Conference,Evangelization,Parish Mission,Pray with Us
END:VEVENT
BEGIN:VEVENT
DTSTART;TZID=UTC:20241019T183000
DTEND;TZID=UTC:20241019T193000
DTSTAMP:20260424T040420
CREATED:20240823T205424Z
LAST-MODIFIED:20240823T205424Z
UID:12875-1729362600-1729366200@sistersoflife.org
SUMMARY:The Source Philadelphia
DESCRIPTION:The Source Holy Hour with music by the Sisters of Life\nJOIN THE EUCHARISTIC REVIVAL!\n\nWe invite you to join the Sisters of Life and the National Eucharistic Revival as we unite around the source and summit of our faith— Jesus in the Holy Eucharist.
URL:https://sistersoflife.org/event/the-source-philadelphia-oct2024/
LOCATION:St. Malachy’s Catholic Church\, Philadeliphia\, PA\, 1429 N. 11th Street\, Philadelphia\, PA\, 19122
CATEGORIES:Pray with Us
END:VEVENT
BEGIN:VEVENT
DTSTART;TZID=UTC:20241019T103000
DTEND;TZID=UTC:20241019T170000
DTSTAMP:20260424T040420
CREATED:20240916T163901Z
LAST-MODIFIED:20240916T164438Z
UID:13205-1729333800-1729357200@sistersoflife.org
SUMMARY:Revive Days\, Denver\, CO
DESCRIPTION:Come\, be restored.\nWhat are Revive Days?\nRevive Days are open house prayer days with the Sisters of Life\, for women ages 18-35. \nThe days include silence\, Eucharistic Adoration\, meeting with a Sister\, art and reading\, a talk and prayer with the Sisters\, as well as coffee and snacks. \nBring your own lunch and a friend\, and join us anytime throughout the day!\n\n\nMore information here
URL:https://sistersoflife.org/event/reviveday-oct2024/
LOCATION:2771 Zenobia St. Denver\, CO 80212
CATEGORIES:Pray with Us,Women
END:VEVENT
BEGIN:VEVENT
DTSTART;TZID=UTC:20241018T173000
DTEND;TZID=UTC:20241020T130000
DTSTAMP:20260424T040420
CREATED:20240916T155747Z
LAST-MODIFIED:20240916T155747Z
UID:13173-1729272600-1729429200@sistersoflife.org
SUMMARY:Young Women’s Retreat\, Stamford\, CT
DESCRIPTION:A time to step out of the busy-ness of ordinary life to encounter the love\, peace\, and mercy of Jesus in a new way.\nOPEN TO WOMEN AGES 18 – 35 \nA time of prayer and fellowship with others walking with the Lord\, this retreat is open to women ages 18-35. The weekend includes times and places of silence to encounter the Lord\, Mass on Saturday and Sunday\, opportunities for Sacramental Confession and Eucharistic adoration. The Sisters will give conferences throughout on topics such as ‘Deepening in Prayer’ and ‘The Feminine Heart’. There is also opportunity for a brief\, personal meeting with a Sister\, should you desire it.
URL:https://sistersoflife.org/event/young-womens-retreat-stamford-ct-oct2024/
LOCATION:Villa Maria Guadalupe Retreat Center\, Stamford\, CT\, 159 Sky Meadow Drive\, Stamford\, CT\, 06903\, United States
CATEGORIES:Pray with Us,Retreats
END:VEVENT
BEGIN:VEVENT
DTSTART;TZID=UTC:20241015T190000
DTEND;TZID=UTC:20241015T200000
DTSTAMP:20260424T040420
CREATED:20240913T161946Z
LAST-MODIFIED:20240913T161946Z
UID:13120-1729018800-1729022400@sistersoflife.org
SUMMARY:The Source Phoenix
DESCRIPTION:The Source Holy Hour with music by the Sisters of Life\nJOIN THE EUCHARISTIC REVIVAL!\n\nWe invite you to join the Sisters of Life and the National Eucharistic Revival as we unite around the source and summit of our faith— Jesus in the Holy Eucharist.
URL:https://sistersoflife.org/event/the-source-phoenix-oct24/
LOCATION:St. Agnes Catholic Church\, Phoenix\, AZ\, 1954 N. 24th St.\, Phoenix\, AZ\, 85006\, United States
CATEGORIES:Pray with Us
END:VEVENT
END:VCALENDAR