BEGIN:VCALENDAR
VERSION:2.0
PRODID:-//Sisters of Life - ECPv6.15.20//NONSGML v1.0//EN
CALSCALE:GREGORIAN
METHOD:PUBLISH
X-WR-CALNAME:Sisters of Life
X-ORIGINAL-URL:https://sistersoflife.org
X-WR-CALDESC:Events for Sisters of Life
REFRESH-INTERVAL;VALUE=DURATION:PT1H
X-Robots-Tag:noindex
X-PUBLISHED-TTL:PT1H
BEGIN:VTIMEZONE
TZID:UTC
BEGIN:STANDARD
TZOFFSETFROM:+0000
TZOFFSETTO:+0000
TZNAME:UTC
DTSTART:20220101T000000
END:STANDARD
END:VTIMEZONE
BEGIN:VTIMEZONE
TZID:America/New_York
BEGIN:DAYLIGHT
TZOFFSETFROM:-0500
TZOFFSETTO:-0400
TZNAME:EDT
DTSTART:20220313T070000
END:DAYLIGHT
BEGIN:STANDARD
TZOFFSETFROM:-0400
TZOFFSETTO:-0500
TZNAME:EST
DTSTART:20221106T060000
END:STANDARD
BEGIN:DAYLIGHT
TZOFFSETFROM:-0500
TZOFFSETTO:-0400
TZNAME:EDT
DTSTART:20230312T070000
END:DAYLIGHT
BEGIN:STANDARD
TZOFFSETFROM:-0400
TZOFFSETTO:-0500
TZNAME:EST
DTSTART:20231105T060000
END:STANDARD
BEGIN:DAYLIGHT
TZOFFSETFROM:-0500
TZOFFSETTO:-0400
TZNAME:EDT
DTSTART:20240310T070000
END:DAYLIGHT
BEGIN:STANDARD
TZOFFSETFROM:-0400
TZOFFSETTO:-0500
TZNAME:EST
DTSTART:20241103T060000
END:STANDARD
END:VTIMEZONE
BEGIN:VEVENT
DTSTART;TZID=UTC:20231028T193000
DTEND;TZID=UTC:20231028T203000
DTSTAMP:20260421T044445
CREATED:20231010T212445Z
LAST-MODIFIED:20231010T212445Z
UID:11597-1698521400-1698525000@sistersoflife.org
SUMMARY:The Source Catskill
DESCRIPTION:The Source Holy Hour with music by the Sisters of Life\nJOIN THE EUCHARISTIC REVIVAL!\n\nWe invite you to join the Sisters of Life and the National Eucharistic Revival as we unite around the source and summit of our faith— Jesus in the Holy Eucharist.
URL:https://sistersoflife.org/event/the-source-catskill-9/
LOCATION:St. Anthony’s Convent\, Catskill\, NY\, 24 Harrison Street\, Catskill\, 12414
CATEGORIES:Pray with Us
END:VEVENT
BEGIN:VEVENT
DTSTART;TZID=UTC:20231028T090000
DTEND;TZID=UTC:20231028T160000
DTSTAMP:20260421T044445
CREATED:20231010T205707Z
LAST-MODIFIED:20231023T191606Z
UID:11554-1698483600-1698508800@sistersoflife.org
SUMMARY:Philly Catholic Women’s Conference
DESCRIPTION:Saturday\, October 28th\n\nCatholic Women’s Conference\, 9am-4pm (more details here)
URL:https://sistersoflife.org/event/new-york-eucharistic-congress-2/
LOCATION:National Shrine of Our Lady of Czestochowa\, 654 Ferry Road\, Doylestown\, Pennsylvania
CATEGORIES:Conference,Evangelization,Pray with Us
END:VEVENT
BEGIN:VEVENT
DTSTART;TZID=UTC:20231027T173000
DTEND;TZID=UTC:20231029T130000
DTSTAMP:20260421T044445
CREATED:20230912T154839Z
LAST-MODIFIED:20230912T154839Z
UID:11349-1698427800-1698584400@sistersoflife.org
SUMMARY:Ignatian Prayer Retreat\, Stamford\, CT
DESCRIPTION:This is a silent retreat where you will be taught how to pray in the tradition of St. Ignatius of Loyola (meditation\, contemplation\, hearing God’s voice\, explanation of the “Examen” prayer\, etc.) In addition to conferences on prayer given by our chaplain / retreat director\, time will be given for practicing Ignatian meditation. The weekend also includes Mass on Saturday and Sunday\, opportunities for Sacramental Confession and Eucharistic adoration.
URL:https://sistersoflife.org/event/ignatian-prayer-retreat-stamford-ct-2/
LOCATION:Villa Maria Guadalupe Retreat Center\, Stamford\, CT\, 159 Sky Meadow Drive\, Stamford\, CT\, 06903\, United States
CATEGORIES:Pray with Us,Retreats
END:VEVENT
BEGIN:VEVENT
DTSTART;TZID=UTC:20231026T110000
DTEND;TZID=UTC:20231030T130000
DTSTAMP:20260421T044445
CREATED:20231010T203010Z
LAST-MODIFIED:20231010T203010Z
UID:11551-1698318000-1698670800@sistersoflife.org
SUMMARY:Sisters visiting Louisiana!
DESCRIPTION:**Please join us at any of the below public events. We are unable to add any additional events during this trip. We look forward to seeing you while we’re in Louisiana!** \nSchedule:\nThursday\, October 26th\n\n6pm Pro-Life and Pints\, at Second Line Brewing\, New Orleans\, Louisiana\n\nFriday\, October 27th – Sunday\, October 29th\n\nEncounter Retreat\n\nMonday\, October 30th\n\n6pm Night for Life\, Louisiana Right to Life at St. Francis Xavier\, Metairie\, Louisiana (Register here)
URL:https://sistersoflife.org/event/sisters-visiting-louisiana/
LOCATION:Louisiana\, Louisiana
CATEGORIES:Campus visit,Evangelization,Parish Mission,Pray with Us
END:VEVENT
BEGIN:VEVENT
DTSTART;TZID=UTC:20231026T110000
DTEND;TZID=UTC:20231030T130000
DTSTAMP:20260421T044445
CREATED:20231010T201921Z
LAST-MODIFIED:20231010T201921Z
UID:11486-1698318000-1698670800@sistersoflife.org
SUMMARY:Sisters visiting Kansas!
DESCRIPTION:**Please join us at any of the below public events. We are unable to add any additional events during this trip. We look forward to seeing you while we’re in Kansas!** \nSchedule:\nThursday\, October 26th\n\nCampus Visit to Wichita State University\n\nFriday\, October 27th\n\nCampus Visit to Newman University\n7pm Source Holy Hour and Talk – Cathedral of the Immaculate Conception\, Wichita\, Kansas\n\nSaturday\, October 28th\n\nCampus Visit to Kansas State University\n\nSunday\, October 29th\n\nCampus Visit to Wichita State University\n6:30pm Theology on Tap – Salt and Light\, at Sky Lounge\, Wichita\, Kansas\n\nMonday\, October 30th\n\nMt. Carmel High School visit
URL:https://sistersoflife.org/event/sisters-visiting-kansas/
LOCATION:Kansas\, Kansas
CATEGORIES:Campus visit,Evangelization,Parish Mission,Pray with Us
END:VEVENT
BEGIN:VEVENT
DTSTART;TZID=UTC:20231021T183000
DTEND;TZID=UTC:20231021T193000
DTSTAMP:20260421T044445
CREATED:20231010T211927Z
LAST-MODIFIED:20231010T211927Z
UID:11583-1697913000-1697916600@sistersoflife.org
SUMMARY:The Source Philadelphia
DESCRIPTION:The Source Holy Hour with music by the Sisters of Life\nJOIN THE EUCHARISTIC REVIVAL!\n\nWe invite you to join the Sisters of Life and the National Eucharistic Revival as we unite around the source and summit of our faith— Jesus in the Holy Eucharist.
URL:https://sistersoflife.org/event/the-source-philadelphia-9/
LOCATION:St. Malachy’s Catholic Church\, Philadeliphia\, PA\, 1429 N. 11th Street\, Philadelphia\, PA\, 19122
CATEGORIES:Pray with Us
END:VEVENT
BEGIN:VEVENT
DTSTART;TZID=UTC:20231020T180000
DTEND;TZID=UTC:20231022T130000
DTSTAMP:20260421T044445
CREATED:20231010T205116Z
LAST-MODIFIED:20231010T205116Z
UID:11499-1697824800-1697979600@sistersoflife.org
SUMMARY:New York Eucharistic Congress
DESCRIPTION:Schedule:\nFriday\, October 20th\n\n6pm Adoration and Confessions in Coliseum\n6:45pm Adoration in 40-hour Chapel\n7pm Congress begins\, Keynotes throughout the evening\n\nSaturday\, October 21st\n\nSisters of Life singing throughout the day\nKeynotes throughout the day\n7:30am Morning Prayer\, Adoration in 40-Hour Chapel\n11am Mass\, Praise and Worship Holy Hour in Coliseum\n3:30pm Eucharistic Procession\n6:45pm Adoration in 40-Hour Chapel\n\nSunday\, October 22nd\n\n9:00am Keynote by Sr. Mary Grace\, SV\, “Eucharistic Intimacy: Letting Love Conquer Your Heart”\n11:00am Mass\, Bishop Scharfenberger\, principal celebrant
URL:https://sistersoflife.org/event/new-york-eucharistic-congress/
LOCATION:Our Lady of Martyrs Shrine\, Auriesville\, NY\, 136 Shrine Road\, Fultonville\, New York\, 12072
CATEGORIES:Conference,Evangelization,Pray with Us
END:VEVENT
BEGIN:VEVENT
DTSTART;TZID=UTC:20231020T173000
DTEND;TZID=UTC:20231022T130000
DTSTAMP:20260421T044445
CREATED:20230912T145733Z
LAST-MODIFIED:20230912T145733Z
UID:11343-1697823000-1697979600@sistersoflife.org
SUMMARY:Young Women’s Retreat\, Stamford\, CT
DESCRIPTION:A time to step out of the busy-ness of ordinary life to encounter the love\, peace\, and mercy of Jesus in a new way.\nOPEN TO WOMEN AGES 18 – 35 \nA time of prayer and fellowship with others walking with the Lord\, this retreat is open to women ages 18-35. The weekend includes times and places of silence to encounter the Lord\, Mass on Saturday and Sunday\, opportunities for Sacramental Confession and Eucharistic adoration. The Sisters will give conferences throughout on topics such as ‘Deepening in Prayer’ and ‘The Feminine Heart’. There is also opportunity for a brief\, personal meeting with a Sister\, should you desire it.
URL:https://sistersoflife.org/event/young-womens-retreat-stamford-ct-2/
LOCATION:Villa Maria Guadalupe Retreat Center\, Stamford\, CT\, 159 Sky Meadow Drive\, Stamford\, CT\, 06903\, United States
CATEGORIES:Pray with Us,Retreats
END:VEVENT
BEGIN:VEVENT
DTSTART;TZID=UTC:20231019T190000
DTEND;TZID=UTC:20231019T200000
DTSTAMP:20260421T044445
CREATED:20231010T213533Z
LAST-MODIFIED:20231010T213533Z
UID:11627-1697742000-1697745600@sistersoflife.org
SUMMARY:The Source Toronto
DESCRIPTION:The Source Holy Hour with music by the Sisters of Life\nJOIN THE EUCHARISTIC REVIVAL!\n\nWe invite you to join the Sisters of Life and the National Eucharistic Revival as we unite around the source and summit of our faith— Jesus in the Holy Eucharist.
URL:https://sistersoflife.org/event/the-source-toronto-9/
LOCATION:St. Peter’s Catholic Church\, Toronto\, ON\, 840 Bathurst St.\, Toronto\, Ontario\, M6G 2M1\, Canada
CATEGORIES:Pray with Us
END:VEVENT
BEGIN:VEVENT
DTSTART;TZID=UTC:20231017T190000
DTEND;TZID=UTC:20231017T200000
DTSTAMP:20260421T044445
CREATED:20231010T212949Z
LAST-MODIFIED:20231010T212949Z
UID:11611-1697569200-1697572800@sistersoflife.org
SUMMARY:The Source Phoenix
DESCRIPTION:The Source Holy Hour with music by the Sisters of Life\nJOIN THE EUCHARISTIC REVIVAL!\n\nWe invite you to join the Sisters of Life and the National Eucharistic Revival as we unite around the source and summit of our faith— Jesus in the Holy Eucharist.
URL:https://sistersoflife.org/event/the-source-phoenix-9/
LOCATION:St. Agnes Catholic Church\, Phoenix\, AZ\, 1954 N. 24th St.\, Phoenix\, AZ\, 85006\, United States
CATEGORIES:Pray with Us
END:VEVENT
BEGIN:VEVENT
DTSTART;TZID=UTC:20231016T110000
DTEND;TZID=UTC:20231018T130000
DTSTAMP:20260421T044445
CREATED:20231010T211054Z
LAST-MODIFIED:20231016T171445Z
UID:11504-1697454000-1697634000@sistersoflife.org
SUMMARY:Sisters visiting Rhode Island!
DESCRIPTION:**We are unable to add any additional events during this trip. We look forward to seeing you while we’re in Rhode Island!** \nSchedule:\nMonday\, October 16th\n\nCampus visit to Brown University\n\nTuesday\, October 17th\n\nCampus visit to Brown University\nCampus visit to Providence College\n\nWednesday\, October 18th\n\nCampus visit to Providence College\nSt. Pius V School visit\nChesterton Academy school visit
URL:https://sistersoflife.org/event/rhode-island/
LOCATION:Rhode Island\, Rhode Island
CATEGORIES:Campus visit,Evangelization,Pray with Us
END:VEVENT
BEGIN:VEVENT
DTSTART;TZID=UTC:20231013T173000
DTEND;TZID=UTC:20231015T130000
DTSTAMP:20260421T044445
CREATED:20230912T154535Z
LAST-MODIFIED:20230912T154535Z
UID:11345-1697218200-1697374800@sistersoflife.org
SUMMARY:Women’s Retreat\, Stamford\, CT
DESCRIPTION:A time to step out of the busy-ness of ordinary life to encounter the love\, peace\, and mercy of Jesus in a new way.\nOPEN TO WOMEN AGES 18 AND OVER \nA weekend of silence and prayer for women ages 18 and over\, this retreat includes time and space to encounter the Lord\, Mass on Saturday and Sunday\, opportunities for Sacramental Confession\, and Eucharistic adoration. The Sisters will give conferences throughout on topics such as Introduction to Prayer and The Feminine Heart. The silence is broken only for these conferences\, and for a personal meeting with a Sister\, should you desire it.
URL:https://sistersoflife.org/event/womens-retreat-stamford-ct-4/
LOCATION:Villa Maria Guadalupe Retreat Center\, Stamford\, CT\, 159 Sky Meadow Drive\, Stamford\, CT\, 06903\, United States
CATEGORIES:Pray with Us,Retreats
END:VEVENT
BEGIN:VEVENT
DTSTART;TZID=UTC:20231012T110000
DTEND;TZID=UTC:20231016T130000
DTSTAMP:20260421T044445
CREATED:20231009T213414Z
LAST-MODIFIED:20231009T214504Z
UID:11495-1697108400-1697461200@sistersoflife.org
SUMMARY:Sisters visiting Ohio!
DESCRIPTION:**Please join us at any of the below public events. We are unable to add any additional events during this trip. We look forward to seeing you while we’re in Ohio!** \nSchedule:\nThursday\, October 12th\n\nAdore Night – St. Catharine Church\, Columbus\, Ohio\n\n7pm Holy Hour with Music & Reflections\n\n\n\nFriday\, October 13th\n\nCampus Visit to Ohio State University\nGreater Columbus Right to Life Event – St. Paul\, Westerville\, Ohio\n\n7pm Talk – Sr. Cecilia Rose\, ‘The Vocation to Love”\n\n\n\nSaturday\, October 14th\n\nColumbus Catholic Young Adult Conference – St. John Neumann Parish\, Sunbury\, Ohio (Register here)\n\n10:30am Breakout Session – Sr. Mary Grace\, “Understanding Spiritual Warfare: How to Respond in Prayer”\n1:45pm Afternoon Remarks & Keynote – Sr. Mary Grace\, “Commit to Him”\n\n\n\nSunday\, October 15th\n\nParish Mission – St. Bernard Catholic Church\, Beverly\, Ohio\n\n1030am Brunch & Charism Talk
URL:https://sistersoflife.org/event/ohio/
LOCATION:Ohio\, Ohio
CATEGORIES:Campus visit,Conference,Evangelization,Parish Mission,Pray with Us
END:VEVENT
BEGIN:VEVENT
DTSTART;TZID=UTC:20231011T173000
DTEND;TZID=UTC:20231014T130000
DTSTAMP:20260421T044445
CREATED:20231010T195736Z
LAST-MODIFIED:20231010T195736Z
UID:11466-1697045400-1697288400@sistersoflife.org
SUMMARY:Sisters visiting California!
DESCRIPTION:**We are unable to add any additional events during this trip. We look forward to seeing you while we’re in California!** \nSchedule:\nWednesday\, October 11th – Friday\, October 13th\n\nUSC Theology of the Body Retreat for students\n\nFriday\, October 13th\n\nCampus visit to UC Irvine\nTalk & Source Holy Hour (for more information\, contact chaplain – Fr. Ben)
URL:https://sistersoflife.org/event/sisters-visiting-california/
LOCATION:California\, California
CATEGORIES:Evangelization,Pray with Us,Retreats
END:VEVENT
BEGIN:VEVENT
DTSTART;TZID=UTC:20231010T163000
DTEND;TZID=UTC:20231010T183000
DTSTAMP:20260421T044445
CREATED:20231009T211831Z
LAST-MODIFIED:20231009T211831Z
UID:11525-1696955400-1696962600@sistersoflife.org
SUMMARY:New York Eucharistic Procession
DESCRIPTION:New York Eucharistic Procession Schedule:\nTuesday\, October 10th\n\n4:30pm Mass at St. Patrick’s Cathedral\n5:15pm Procession through Manhattan\n6pm Procession Ends at St. Patrick’s Cathedral\, followed by Benediction\n6:30pm Event Concludes\n\nHosted by the Napa Institute; registration and further details can be found here.
URL:https://sistersoflife.org/event/new-york-eucharistic-procession/
LOCATION:St. Patrick’s Cathedral\, NYC\, 5th Ave\, New York\, NY\, United States
CATEGORIES:Pray with Us
END:VEVENT
BEGIN:VEVENT
DTSTART;TZID=UTC:20231006T173000
DTEND;TZID=UTC:20231008T130000
DTSTAMP:20260421T044445
CREATED:20221001T073035Z
LAST-MODIFIED:20230925T143055Z
UID:10192-1696613400-1696770000@sistersoflife.org
SUMMARY:Men’s Working Retreat\, Stamford\, CT
DESCRIPTION:Encounter the love and life of Jesus in a new way.\nChrist’s peace! This retreat is a graced time of prayer\, service and fellowship. The weekend includes Mass on Saturday and Sunday\, opportunities for Sacramental Confession\, Eucharistic adoration\, and a “work project” on Saturday on the grounds of Villa Maria Retreat Center. In addition to conferences given by our retreat director\, time will be given for prayer with the Sisters and fellowship with other men seeking to follow the Lord.
URL:https://sistersoflife.org/event/mens-working-retreat-stamford-ct/
LOCATION:Villa Maria Guadalupe Retreat Center\, Stamford\, CT\, 159 Sky Meadow Drive\, Stamford\, CT\, 06903\, United States
CATEGORIES:Pray with Us,Retreats
END:VEVENT
BEGIN:VEVENT
DTSTART;TZID=UTC:20230928T190000
DTEND;TZID=UTC:20230928T200000
DTSTAMP:20260421T044445
CREATED:20230919T030232Z
LAST-MODIFIED:20230919T030232Z
UID:11372-1695927600-1695931200@sistersoflife.org
SUMMARY:The Source Toronto
DESCRIPTION:The Source Holy Hour with music by the Sisters of Life\nJOIN THE EUCHARISTIC REVIVAL!\n\nWe invite you to join the Sisters of Life and the National Eucharistic Revival as we unite around the source and summit of our faith— Jesus in the Holy Eucharist.
URL:https://sistersoflife.org/event/the-source-toronto-8/
LOCATION:St. Peter’s Catholic Church\, Toronto\, ON\, 840 Bathurst St.\, Toronto\, Ontario\, M6G 2M1\, Canada
CATEGORIES:Pray with Us
END:VEVENT
BEGIN:VEVENT
DTSTART;TZID=UTC:20230923T193000
DTEND;TZID=UTC:20230923T203000
DTSTAMP:20260421T044445
CREATED:20230919T030137Z
LAST-MODIFIED:20230919T030137Z
UID:11370-1695497400-1695501000@sistersoflife.org
SUMMARY:The Source Catskill
DESCRIPTION:The Source Holy Hour with music by the Sisters of Life\nJOIN THE EUCHARISTIC REVIVAL!\n\nWe invite you to join the Sisters of Life and the National Eucharistic Revival as we unite around the source and summit of our faith— Jesus in the Holy Eucharist.
URL:https://sistersoflife.org/event/the-source-catskill-8/
LOCATION:St. Anthony’s Convent\, Catskill\, NY\, 24 Harrison Street\, Catskill\, 12414
CATEGORIES:Pray with Us
END:VEVENT
BEGIN:VEVENT
DTSTART;TZID=UTC:20230923T183000
DTEND;TZID=UTC:20230923T193000
DTSTAMP:20260421T044445
CREATED:20230919T030038Z
LAST-MODIFIED:20230919T030038Z
UID:11368-1695493800-1695497400@sistersoflife.org
SUMMARY:The Source Philadelphia
DESCRIPTION:The Source Holy Hour with music by the Sisters of Life\nJOIN THE EUCHARISTIC REVIVAL!\n\nWe invite you to join the Sisters of Life and the National Eucharistic Revival as we unite around the source and summit of our faith— Jesus in the Holy Eucharist.
URL:https://sistersoflife.org/event/the-source-philadelphia-8/
LOCATION:St. Malachy’s Catholic Church\, Philadeliphia\, PA\, 1429 N. 11th Street\, Philadelphia\, PA\, 19122
CATEGORIES:Pray with Us
END:VEVENT
BEGIN:VEVENT
DTSTART;TZID=America/New_York:20230923T180000
DTEND;TZID=America/New_York:20230923T210000
DTSTAMP:20260421T044445
CREATED:20230919T025634Z
LAST-MODIFIED:20230919T030302Z
UID:11363-1695492000-1695502800@sistersoflife.org
SUMMARY:Denver Women’s Night and Holy Hour (ages 18-35)
DESCRIPTION:Join us for dinner\, a reflection by a Sister of Life\, Eucharistic Adoration with music led by the Sisters\, followed by dessert!
URL:https://sistersoflife.org/event/womens-night-and-holy-hour-ages-18-35/
LOCATION:Denver\, CO\, 2771 Zenobia Street\, Denver\, CO\, 80212\, United States
CATEGORIES:Pray with Us,Women
END:VEVENT
BEGIN:VEVENT
DTSTART;TZID=UTC:20230921T190000
DTEND;TZID=UTC:20230921T200000
DTSTAMP:20260421T044445
CREATED:20230919T025928Z
LAST-MODIFIED:20230919T025928Z
UID:11366-1695322800-1695326400@sistersoflife.org
SUMMARY:The Source NYC
DESCRIPTION:The Source Holy Hour with music by the Sisters of Life\nJOIN THE EUCHARISTIC REVIVAL!\n\nWe invite you to join the Sisters of Life and the National Eucharistic Revival as we unite around the source and summit of our faith— Jesus in the Holy Eucharist.
URL:https://sistersoflife.org/event/the-source-nyc-11/
LOCATION:St. Patrick’s Cathedral\, NYC\, 5th Ave\, New York\, NY\, United States
CATEGORIES:Pray with Us
END:VEVENT
BEGIN:VEVENT
DTSTART;TZID=UTC:20230826T093000
DTEND;TZID=UTC:20230826T120000
DTSTAMP:20260421T044445
CREATED:20230713T141845Z
LAST-MODIFIED:20230713T141845Z
UID:11160-1693042200-1693051200@sistersoflife.org
SUMMARY:Profession of Final Vows
DESCRIPTION:The Sisters of Life joyfully invite you to the Profession of Final Vows of Sr. Gaudia Maria Magdalena\n9:30 Preludes Begin\n10am Holy Sacrifice of the Mass
URL:https://sistersoflife.org/event/profession-of-final-vows-2/
LOCATION:St. Michael’s Cathedral Basilica\, 65 Bond Street\, Toronto\, Canada
END:VEVENT
BEGIN:VEVENT
DTSTART;TZID=UTC:20230805T093000
DTEND;TZID=UTC:20230805T110000
DTSTAMP:20260421T044445
CREATED:20230711T143016Z
LAST-MODIFIED:20230711T143016Z
UID:11155-1691227800-1691233200@sistersoflife.org
SUMMARY:Profession of Final Vows
DESCRIPTION:The Sisters of Life joyfully invite you to the Profession of Final Vows\n9:00 Preludes Begin\n9:30am Holy Sacrifice of the Mass
URL:https://sistersoflife.org/event/profession-of-final-vows/
LOCATION:St. Patrick’s Cathedral\, NYC\, 5th Ave\, New York\, NY\, United States
END:VEVENT
BEGIN:VEVENT
DTSTART;TZID=UTC:20230713T190000
DTEND;TZID=UTC:20230713T200000
DTSTAMP:20260421T044445
CREATED:20221107T222717Z
LAST-MODIFIED:20221107T222717Z
UID:10339-1689274800-1689278400@sistersoflife.org
SUMMARY:The Source NYC
DESCRIPTION:The Source Holy Hour with music by the Sisters of Life\nJOIN THE EUCHARISTIC REVIVAL!\n\nWe invite you to join the Sisters of Life and the National Eucharistic Revival as we unite around the source and summit of our faith— Jesus in the Holy Eucharist.
URL:https://sistersoflife.org/event/the-source-nyc-10/
LOCATION:St. Patrick’s Cathedral\, NYC\, 5th Ave\, New York\, NY\, United States
CATEGORIES:Pray with Us
END:VEVENT
BEGIN:VEVENT
DTSTART;VALUE=DATE:20230703
DTEND;VALUE=DATE:20230717
DTSTAMP:20260421T044445
CREATED:20221126T192049Z
LAST-MODIFIED:20221126T192148Z
UID:10459-1688342400-1689551999@sistersoflife.org
SUMMARY:Poland Summer Pilgrimage (Women)
DESCRIPTION:Join FOCUS and the Sisters of Life for a Summer Pilgrimage opportunity!\nPoland is yours to explore this summer as we build a culture of life by following in the footsteps of St. John Paul II.\nSee the sites of St. Maximilian Kolbe’s Marytown\, Czestochowa\, Auschwitz\, the Divine Mercy Shrine\, St. John Paul II’s hometown\, and more!
URL:https://sistersoflife.org/event/poland-summer-pilgrimage-women/
LOCATION:Poland\, Poland
CATEGORIES:Pilgrimage,Women
END:VEVENT
BEGIN:VEVENT
DTSTART;TZID=UTC:20230615T190000
DTEND;TZID=UTC:20230615T200000
DTSTAMP:20260421T044445
CREATED:20221107T222642Z
LAST-MODIFIED:20221107T222642Z
UID:10337-1686855600-1686859200@sistersoflife.org
SUMMARY:The Source NYC
DESCRIPTION:The Source Holy Hour with music by the Sisters of Life\nJOIN THE EUCHARISTIC REVIVAL!\n\nWe invite you to join the Sisters of Life and the National Eucharistic Revival as we unite around the source and summit of our faith— Jesus in the Holy Eucharist.
URL:https://sistersoflife.org/event/the-source-nyc-9/
LOCATION:St. Patrick’s Cathedral\, NYC\, 5th Ave\, New York\, NY\, United States
CATEGORIES:Pray with Us
END:VEVENT
BEGIN:VEVENT
DTSTART;TZID=UTC:20230527T193000
DTEND;TZID=UTC:20230527T203000
DTSTAMP:20260421T044445
CREATED:20221107T223038Z
LAST-MODIFIED:20221107T223038Z
UID:10349-1685215800-1685219400@sistersoflife.org
SUMMARY:The Source Catskill
DESCRIPTION:The Source Holy Hour with music by the Sisters of Life\nJOIN THE EUCHARISTIC REVIVAL!\n\nWe invite you to join the Sisters of Life and the National Eucharistic Revival as we unite around the source and summit of our faith— Jesus in the Holy Eucharist.
URL:https://sistersoflife.org/event/the-source-catskill-7/
LOCATION:St. Anthony’s Convent\, Catskill\, NY\, 24 Harrison Street\, Catskill\, 12414
CATEGORIES:Pray with Us
END:VEVENT
BEGIN:VEVENT
DTSTART;TZID=UTC:20230525T190000
DTEND;TZID=UTC:20230525T200000
DTSTAMP:20260421T044445
CREATED:20221107T224548Z
LAST-MODIFIED:20221107T224548Z
UID:10380-1685041200-1685044800@sistersoflife.org
SUMMARY:The Source Toronto
DESCRIPTION:The Source Holy Hour with music by the Sisters of Life\nJOIN THE EUCHARISTIC REVIVAL!\n\nWe invite you to join the Sisters of Life and the National Eucharistic Revival as we unite around the source and summit of our faith— Jesus in the Holy Eucharist.
URL:https://sistersoflife.org/event/the-source-toronto-7/
LOCATION:St. Peter’s Catholic Church\, Toronto\, ON\, 840 Bathurst St.\, Toronto\, Ontario\, M6G 2M1\, Canada
CATEGORIES:Pray with Us
END:VEVENT
BEGIN:VEVENT
DTSTART;TZID=UTC:20230520T183000
DTEND;TZID=UTC:20230520T193000
DTSTAMP:20260421T044445
CREATED:20221107T223443Z
LAST-MODIFIED:20221107T223443Z
UID:10359-1684607400-1684611000@sistersoflife.org
SUMMARY:The Source Philadelphia
DESCRIPTION:The Source Holy Hour with music by the Sisters of Life\nJOIN THE EUCHARISTIC REVIVAL!\n\nWe invite you to join the Sisters of Life and the National Eucharistic Revival as we unite around the source and summit of our faith— Jesus in the Holy Eucharist.
URL:https://sistersoflife.org/event/the-source-philadelphia-7/
LOCATION:St. Malachy’s Catholic Church\, Philadeliphia\, PA\, 1429 N. 11th Street\, Philadelphia\, PA\, 19122
CATEGORIES:Pray with Us
END:VEVENT
BEGIN:VEVENT
DTSTART;TZID=UTC:20230516T190000
DTEND;TZID=UTC:20230516T200000
DTSTAMP:20260421T044445
CREATED:20221107T223913Z
LAST-MODIFIED:20221107T223913Z
UID:10369-1684263600-1684267200@sistersoflife.org
SUMMARY:The Source Phoenix
DESCRIPTION:The Source Holy Hour with music by the Sisters of Life\nJOIN THE EUCHARISTIC REVIVAL!\n\nWe invite you to join the Sisters of Life and the National Eucharistic Revival as we unite around the source and summit of our faith— Jesus in the Holy Eucharist.
URL:https://sistersoflife.org/event/the-source-phoenix-8/
LOCATION:St. Agnes Catholic Church\, Phoenix\, AZ\, 1954 N. 24th St.\, Phoenix\, AZ\, 85006\, United States
CATEGORIES:Pray with Us
END:VEVENT
END:VCALENDAR