BEGIN:VCALENDAR
VERSION:2.0
PRODID:-//Sisters of Life - ECPv6.15.20//NONSGML v1.0//EN
CALSCALE:GREGORIAN
METHOD:PUBLISH
X-ORIGINAL-URL:https://sistersoflife.org
X-WR-CALDESC:Events for Sisters of Life
REFRESH-INTERVAL;VALUE=DURATION:PT1H
X-Robots-Tag:noindex
X-PUBLISHED-TTL:PT1H
BEGIN:VTIMEZONE
TZID:America/New_York
BEGIN:DAYLIGHT
TZOFFSETFROM:-0500
TZOFFSETTO:-0400
TZNAME:EDT
DTSTART:20220313T070000
END:DAYLIGHT
BEGIN:STANDARD
TZOFFSETFROM:-0400
TZOFFSETTO:-0500
TZNAME:EST
DTSTART:20221106T060000
END:STANDARD
BEGIN:DAYLIGHT
TZOFFSETFROM:-0500
TZOFFSETTO:-0400
TZNAME:EDT
DTSTART:20230312T070000
END:DAYLIGHT
BEGIN:STANDARD
TZOFFSETFROM:-0400
TZOFFSETTO:-0500
TZNAME:EST
DTSTART:20231105T060000
END:STANDARD
BEGIN:DAYLIGHT
TZOFFSETFROM:-0500
TZOFFSETTO:-0400
TZNAME:EDT
DTSTART:20240310T070000
END:DAYLIGHT
BEGIN:STANDARD
TZOFFSETFROM:-0400
TZOFFSETTO:-0500
TZNAME:EST
DTSTART:20241103T060000
END:STANDARD
BEGIN:DAYLIGHT
TZOFFSETFROM:-0500
TZOFFSETTO:-0400
TZNAME:EDT
DTSTART:20250309T070000
END:DAYLIGHT
BEGIN:STANDARD
TZOFFSETFROM:-0400
TZOFFSETTO:-0500
TZNAME:EST
DTSTART:20251102T060000
END:STANDARD
BEGIN:DAYLIGHT
TZOFFSETFROM:-0500
TZOFFSETTO:-0400
TZNAME:EDT
DTSTART:20260308T070000
END:DAYLIGHT
BEGIN:STANDARD
TZOFFSETFROM:-0400
TZOFFSETTO:-0500
TZNAME:EST
DTSTART:20261101T060000
END:STANDARD
BEGIN:DAYLIGHT
TZOFFSETFROM:-0500
TZOFFSETTO:-0400
TZNAME:EDT
DTSTART:20270314T070000
END:DAYLIGHT
BEGIN:STANDARD
TZOFFSETFROM:-0400
TZOFFSETTO:-0500
TZNAME:EST
DTSTART:20271107T060000
END:STANDARD
END:VTIMEZONE
BEGIN:VTIMEZONE
TZID:UTC
BEGIN:STANDARD
TZOFFSETFROM:+0000
TZOFFSETTO:+0000
TZNAME:UTC
DTSTART:20220101T000000
END:STANDARD
END:VTIMEZONE
BEGIN:VEVENT
DTSTART;VALUE=DATE:20260313
DTEND;VALUE=DATE:20260323
DTSTAMP:20260423T055503
CREATED:20250724T201303Z
LAST-MODIFIED:20250724T201303Z
UID:14232-1773360000-1774223999@sistersoflife.org
SUMMARY:Poland Spring Break Pilgrimage (Women)
DESCRIPTION:Join FOCUS and the Sisters of Life for a Spring Break Pilgrimage opportunity!\nPoland is yours to explore this spring break as we build a culture of life by following in the footsteps of St. John Paul II.\nSee the sites of St. Maximilian Kolbe’s Marytown\, Czestochowa\, Auschwitz\, the Divine Mercy Shrine\, St. John Paul II’s hometown\, and more!
URL:https://sistersoflife.org/event/poland-spring-break-pilgrimage-women-2/
LOCATION:Poland\, Poland
CATEGORIES:Pilgrimage,Women
END:VEVENT
BEGIN:VEVENT
DTSTART;VALUE=DATE:20260313
DTEND;VALUE=DATE:20260323
DTSTAMP:20260423T055503
CREATED:20250724T201215Z
LAST-MODIFIED:20250724T201215Z
UID:14231-1773360000-1774223999@sistersoflife.org
SUMMARY:New York Spring Break Mission Trip (Women)
DESCRIPTION:Join FOCUS and the Sisters of Life for a Spring Break Mission Trip opportunity!\nCome to New York to work side-by-side with the Sisters of Life in their apostolates to women in crisis pregnancies. The trip includes formation through the lens of the Charism of Life and opportunities for evangelization on the streets of New York City.\nApply here
URL:https://sistersoflife.org/event/new-york-spring-break-mission-trip-women-2/
LOCATION:New York City Area
CATEGORIES:Evangelization,Mission Trip,Pilgrimage,Retreats,Women
END:VEVENT
BEGIN:VEVENT
DTSTART;TZID=UTC:20260221T180000
DTEND;TZID=UTC:20260221T210000
DTSTAMP:20260423T055503
CREATED:20250722T160049Z
LAST-MODIFIED:20250722T160049Z
UID:14159-1771696800-1771707600@sistersoflife.org
SUMMARY:Women’s Dinner & Holy Hour\, Denver\, CO
DESCRIPTION:Women’s Dinner & Holy Hour\nYou are invited to a night for young women (ages 18-35) that we are hosting at St. Mary Magdalene convent in Denver! The evening will go from 6-9pm\, beginning dinner at 6pm\, followed by a talk and adoration (confession is also available during this time). The evening will end with dessert and social time. We are so grateful to you for letting us know if you’re planning to come!
URL:https://sistersoflife.org/event/womens-dinner-holy-hour-denver-co-feb26/
LOCATION:2771 Zenobia St. Denver\, CO 80212
CATEGORIES:Pray with Us,Women
END:VEVENT
BEGIN:VEVENT
DTSTART;TZID=UTC:20260213T170000
DTEND;TZID=UTC:20260215T120000
DTSTAMP:20260423T055503
CREATED:20250724T204854Z
LAST-MODIFIED:20251020T200048Z
UID:14244-1771002000-1771156800@sistersoflife.org
SUMMARY:Women’s Retreat\, Irene\, SD
DESCRIPTION:A time to step out of the busy-ness of ordinary life to encounter the love\, peace\, and mercy of Jesus in a new way.\nFor Women\, ages 18 and older \nArrival begins at 5:00 p.m. on Friday night with the retreat beginning at 6:00 p.m. with dinner. The retreat ends on Sunday after the Holy Sacrifice of the Mass\, about 12:00 p.m. \nWEEKEND INCLUDES: Introduction to prayer\, extended periods of silence\, Eucharistic Adoration\, Holy Mass on Saturday and Sunday\, conferences by Sisters\, opportunities for Sacramental Confession\, and the opportunity to meet with a Sister. \nDRESS CODE: Modest dress with appropriate clothes for Sunday. \nTHINGS TO BRING: Bible\, Rosary\, notebook or journal\, sneakers and casual clothes for walks. \nTRANSPORTATION: Unfortunately\, we will not be able to provide transportation for those who are coming in via plane. We apologize for any inconvenience this may cause. \nQUESTIONS? Please contact the Denver Sisters of Life at evangelization@sistersoflife.org or by phone: (720) 722-3485. \nRegister HERE
URL:https://sistersoflife.org/event/womens-retreat-irene-sd-3/
LOCATION:Broom Tree Retreat and Conference Center\, Irene\, SD\, 123 St Raphael Cir\, Irene\, SD\, 57037\, United States
CATEGORIES:Pray with Us,Retreats,Women
END:VEVENT
BEGIN:VEVENT
DTSTART;TZID=UTC:20260131T103000
DTEND;TZID=UTC:20260131T170000
DTSTAMP:20260423T055503
CREATED:20250724T195352Z
LAST-MODIFIED:20250724T195352Z
UID:14219-1769855400-1769878800@sistersoflife.org
SUMMARY:Revive Days\, Denver\, CO
DESCRIPTION:Come\, be restored.\nWhat are Revive Days?\nRevive Days are open house prayer days with the Sisters of Life\, for women ages 18-35. \nThe days include silence\, Eucharistic Adoration\, meeting with a Sister\, art and reading\, a talk and prayer with the Sisters\, as well as coffee and snacks. \nBring your own lunch and a friend\, and join us anytime throughout the day!\n\n\n*Times subject to change – please check our website for updates**\n\n\n\nMore information here
URL:https://sistersoflife.org/event/revive-days-denver-co-jan26/
LOCATION:2771 Zenobia St. Denver\, CO 80212
CATEGORIES:Pray with Us,Women
END:VEVENT
BEGIN:VEVENT
DTSTART;TZID=UTC:20251114T170000
DTEND;TZID=UTC:20251116T120000
DTSTAMP:20260423T055503
CREATED:20250724T203308Z
LAST-MODIFIED:20250929T195249Z
UID:14245-1763139600-1763294400@sistersoflife.org
SUMMARY:Women’s Retreat\, Allenspark\, CO
DESCRIPTION:A time to step out of the busy-ness of ordinary life to encounter the love\, peace\, and mercy of Jesus in a new way.\n\n\n\n\n\nFor Women of all ages \nArrival begins at 5:00 p.m. on Friday night with the retreat beginning at 6:00 p.m. with dinner. The retreat ends on Sunday after the Holy Sacrifice of the Mass\, about 12:00 p.m. \nWEEKEND INCLUDES: Introduction to prayer\, extended periods of silence\, Eucharistic Adoration\, Holy Mass on Saturday and Sunday\, conferences by Sisters\, opportunities for Sacramental Confession\, and the opportunity to meet with a Sister. \nDRESS CODE: Modest dress with appropriate clothes for Sunday. \nTHINGS TO BRING: Bible\, Rosary\, notebook or journal\, sneakers and casual clothes for walks. \nQUESTIONS? Please contact the Denver Sisters of Life at evangelization@sistersoflife.org or by phone: (720) 722-3485. \nREGISTER HERE
URL:https://sistersoflife.org/event/womens-retreat-allenspark-co-nov25/
LOCATION:Highlands Camp & Retreat Center\, 1306 Business Highway 7\, Allenspark\, CO\, 80510\, United States
CATEGORIES:Pray with Us,Retreats,Women
END:VEVENT
BEGIN:VEVENT
DTSTART;TZID=UTC:20251024T170000
DTEND;TZID=UTC:20251026T120000
DTSTAMP:20260423T055503
CREATED:20250724T202716Z
LAST-MODIFIED:20250724T202716Z
UID:14246-1761325200-1761480000@sistersoflife.org
SUMMARY:Women’s Retreat\, Augustine Institute
DESCRIPTION:A time to step out of the busy-ness of ordinary life to encounter the love\, peace\, and mercy of Jesus in a new way.\nFor women of all ages. \nArrival begins at 5:00 p.m. on Friday night with the retreat beginning at 6:00 p.m. with dinner. The retreat ends on Sunday after the Holy Sacrifice of the Mass\, about 12:00 p.m. \nWEEKEND INCLUDES: Introduction to prayer\, extended periods of silence\, Eucharistic Adoration\, Holy Mass on Saturday and Sunday\, conferences by Sisters\, opportunities for Sacramental Confession\, and the opportunity to meet with a Sister. \nDRESS CODE: Modest dress with appropriate clothes for Sunday. \nTHINGS TO BRING: Bible\, Rosary\, notebook or journal\, sneakers and casual clothes for walks. \nQUESTIONS? Please contact the Denver Sisters of Life at evangelization@sistersoflife.org or by phone: (720) 722-3485. \n**More details about registration forthcoming**
URL:https://sistersoflife.org/event/womens-retreat-augustine-institute/
LOCATION:Augustine Institute
CATEGORIES:Pray with Us,Retreats,Women
END:VEVENT
BEGIN:VEVENT
DTSTART;TZID=UTC:20251011T180000
DTEND;TZID=UTC:20251011T210000
DTSTAMP:20260423T055503
CREATED:20250722T155949Z
LAST-MODIFIED:20250722T160031Z
UID:14160-1760205600-1760216400@sistersoflife.org
SUMMARY:Women’s Dinner & Holy Hour\, Denver\, CO
DESCRIPTION:Women’s Dinner & Holy Hour\nYou are invited to a night for young women (ages 18-35) that we are hosting at St. Mary Magdalene convent in Denver! The evening will go from 6-9pm\, beginning dinner at 6pm\, followed by a talk and adoration (confession is also available during this time). The evening will end with dessert and social time. We are so grateful to you for letting us know if you’re planning to come!
URL:https://sistersoflife.org/event/womens-dinner-holy-hour-denver-co-oct25/
LOCATION:2771 Zenobia St. Denver\, CO 80212
CATEGORIES:Pray with Us,Women
END:VEVENT
BEGIN:VEVENT
DTSTART;TZID=UTC:20251004T123000
DTEND;TZID=UTC:20251004T170000
DTSTAMP:20260423T055503
CREATED:20250724T195306Z
LAST-MODIFIED:20251004T164736Z
UID:14218-1759581000-1759597200@sistersoflife.org
SUMMARY:Revive Days\, Denver\, CO
DESCRIPTION:Come\, be restored.\nWhat are Revive Days?\nRevive Days are open house prayer days with the Sisters of Life\, for women ages 18-35. \nThe days include silence\, Eucharistic Adoration\, meeting with a Sister\, art and reading\, a talk and prayer with the Sisters\, as well as coffee and snacks. \nBring your own lunch and a friend\, and join us anytime throughout the day!\n\n*Times subject to change – please check our website for updates**\n\n\nMore information here
URL:https://sistersoflife.org/event/revive-days-denver-co-oct25/
LOCATION:2771 Zenobia St. Denver\, CO 80212
CATEGORIES:Pray with Us,Women
END:VEVENT
BEGIN:VEVENT
DTSTART;VALUE=DATE:20250704
DTEND;VALUE=DATE:20250717
DTSTAMP:20260423T055503
CREATED:20240904T152145Z
LAST-MODIFIED:20240904T152145Z
UID:12987-1751587200-1752710399@sistersoflife.org
SUMMARY:Poland Summer Pilgrimage (Women)
DESCRIPTION:Join FOCUS and the Sisters of Life for a Summer Pilgrimage opportunity!\nPoland is yours to explore this summer as we build a culture of life by following in the footsteps of St. John Paul II.\nSee the sites of St. Maximilian Kolbe’s Marytown\, Czestochowa\, Auschwitz\, the Divine Mercy Shrine\, St. John Paul II’s hometown\, and more!
URL:https://sistersoflife.org/event/poland-summer-pilgrimage-women-2025/
LOCATION:Poland\, Poland
CATEGORIES:Pilgrimage,Women
END:VEVENT
BEGIN:VEVENT
DTSTART;TZID=UTC:20250531T103000
DTEND;TZID=UTC:20250531T170000
DTSTAMP:20260423T055503
CREATED:20240916T164412Z
LAST-MODIFIED:20240916T164412Z
UID:13210-1748687400-1748710800@sistersoflife.org
SUMMARY:Revive Days\, Denver\, CO
DESCRIPTION:Come\, be restored.\nWhat are Revive Days?\nRevive Days are open house prayer days with the Sisters of Life\, for women ages 18-35. \nThe days include silence\, Eucharistic Adoration\, meeting with a Sister\, art and reading\, a talk and prayer with the Sisters\, as well as coffee and snacks. \nBring your own lunch and a friend\, and join us anytime throughout the day!\n\n\nMore information here
URL:https://sistersoflife.org/event/revivedays-may2025/
LOCATION:2771 Zenobia St. Denver\, CO 80212
CATEGORIES:Pray with Us,Women
END:VEVENT
BEGIN:VEVENT
DTSTART;TZID=UTC:20250523T170000
DTEND;TZID=UTC:20250525T120000
DTSTAMP:20260423T055503
CREATED:20240831T201550Z
LAST-MODIFIED:20240916T162138Z
UID:12983-1748019600-1748174400@sistersoflife.org
SUMMARY:Women’s Retreat\, Allenspark\, CO
DESCRIPTION:A time to step out of the busy-ness of ordinary life to encounter the love\, peace\, and mercy of Jesus in a new way.\nFor women of all ages. \nArrival begins at 5:00 p.m. on Friday night with the retreat beginning at 6:00 p.m. with dinner. The retreat ends on Sunday after the Holy Sacrifice of the Mass\, about 12:00 p.m. \nWEEKEND INCLUDES: Introduction to prayer\, extended periods of silence\, Eucharistic Adoration\, Holy Mass on Saturday and Sunday\, conferences by Sisters\, opportunities for Sacramental Confession\, and the opportunity to meet with a Sister. \nDRESS CODE: Modest dress with appropriate clothes for Sunday. \nTHINGS TO BRING: Bible\, Rosary\, notebook or journal\, sneakers and casual clothes for walks. \nTRANSPORTATION: If you travel by air\, there will be a 3:30 p.m. pick-up at Denver International Airport on Friday and a 1:30 p.m. drop-off on Sunday. We ask that you schedule your flight to arrive at or before 3:00 p.m. on Friday to allow sufficient time for transportation from the terminal to the passenger pickup area at DIA so that we can depart the airport by 3:30 p.m. We recommend that you schedule your departing flight on Sunday no earlier than 4:00 p.m. \nQUESTIONS? Please contact Sr. Lumen Gloriae via email at denver@sistersoflife.org or by phone: (720) 722-3485. \nRegister here
URL:https://sistersoflife.org/event/womens-retreat-allenspark-co-2025/
LOCATION:Highlands Camp & Retreat Center\, 1306 Business Highway 7\, Allenspark\, CO\, 80510\, United States
CATEGORIES:Pray with Us,Retreats,Women
END:VEVENT
BEGIN:VEVENT
DTSTART;TZID=UTC:20250405T180000
DTEND;TZID=UTC:20250405T210000
DTSTAMP:20260423T055503
CREATED:20240916T165055Z
LAST-MODIFIED:20250304T172218Z
UID:13220-1743876000-1743886800@sistersoflife.org
SUMMARY:Women’s Dinner & Holy Hour\, Denver\, CO
DESCRIPTION:Women’s Dinner & Holy Hour\nYou are invited to a night for young women (ages 18-35) that we are hosting at St. Mary Magdalene convent in Denver! The evening will go from 6-9pm\, beginning dinner at 6pm\, followed by a talk and adoration (confession is also available during this time). The evening will end with dessert and social time. We are so grateful to you for letting us know if you’re planning to come!
URL:https://sistersoflife.org/event/womens-dinner-holy-hour-denver-co-april2025/
LOCATION:2771 Zenobia St. Denver\, CO 80212
CATEGORIES:Pray with Us,Women
END:VEVENT
BEGIN:VEVENT
DTSTART;TZID=UTC:20250329T090000
DTEND;TZID=UTC:20250329T160000
DTSTAMP:20260423T055503
CREATED:20250208T175919Z
LAST-MODIFIED:20250226T152820Z
UID:13495-1743238800-1743264000@sistersoflife.org
SUMMARY:Treasure in a Field Toronto\, Ontario
DESCRIPTION:Treasure in a Field Toronto\, Ontario\n\nDate: Saturday\, March 29th\, 2025\nTime: 9:00am to 4:00pm\nLocation: St. Timothy’s Church\, 21 Leith Hill Road\, North York\, ON M2J IY9\n\nA Day of Recollection open to single women\, ages 18-35. The day includes Mass\, spiritual talks\, lunch\, Eucharistic Adoration\, and time with the Sisters. Please RSVP to toronto@sistersoflife.org.\nParking available in the church lot. Within walking distance from Don Mills TTC Station.
URL:https://sistersoflife.org/event/treasure-in-a-field-toronto/
LOCATION:St. Timothy Church\, York\, Canada
CATEGORIES:Pray with Us,Women
END:VEVENT
BEGIN:VEVENT
DTSTART;VALUE=DATE:20250314
DTEND;VALUE=DATE:20250324
DTSTAMP:20260423T055503
CREATED:20240831T202120Z
LAST-MODIFIED:20240831T202120Z
UID:12986-1741910400-1742774399@sistersoflife.org
SUMMARY:Poland Spring Break Pilgrimage (Women)
DESCRIPTION:Join FOCUS and the Sisters of Life for a Spring Break Pilgrimage opportunity!\nPoland is yours to explore this spring break as we build a culture of life by following in the footsteps of St. John Paul II.\nSee the sites of St. Maximilian Kolbe’s Marytown\, Czestochowa\, Auschwitz\, the Divine Mercy Shrine\, St. John Paul II’s hometown\, and more!
URL:https://sistersoflife.org/event/poland-spring-break-pilgrimage-women-2025/
LOCATION:Poland\, Poland
CATEGORIES:Pilgrimage,Women
END:VEVENT
BEGIN:VEVENT
DTSTART;VALUE=DATE:20250314
DTEND;VALUE=DATE:20250324
DTSTAMP:20260423T055503
CREATED:20240831T200543Z
LAST-MODIFIED:20240831T200543Z
UID:12970-1741910400-1742774399@sistersoflife.org
SUMMARY:New York Spring Break Mission Trip (Women)
DESCRIPTION:Join FOCUS and the Sisters of Life for a Spring Break Mission Trip opportunity!\nCome to New York to work side-by-side with the Sisters of Life in their apostolates to women in crisis pregnancies. The trip includes formation through the lens of the Charism of Life and opportunities for evangelization on the streets of New York City.\nApply here
URL:https://sistersoflife.org/event/new-york-spring-break-mission-trip-women-2025/
LOCATION:New York City Area
CATEGORIES:Evangelization,Mission Trip,Pilgrimage,Retreats,Women
END:VEVENT
BEGIN:VEVENT
DTSTART;TZID=UTC:20250301T103000
DTEND;TZID=UTC:20250301T170000
DTSTAMP:20260423T055503
CREATED:20240916T164325Z
LAST-MODIFIED:20240916T164325Z
UID:13211-1740825000-1740848400@sistersoflife.org
SUMMARY:Revive Days\, Denver\, CO
DESCRIPTION:Come\, be restored.\nWhat are Revive Days?\nRevive Days are open house prayer days with the Sisters of Life\, for women ages 18-35. \nThe days include silence\, Eucharistic Adoration\, meeting with a Sister\, art and reading\, a talk and prayer with the Sisters\, as well as coffee and snacks. \nBring your own lunch and a friend\, and join us anytime throughout the day!\n\nMore information here
URL:https://sistersoflife.org/event/revivedays-march2025/
LOCATION:2771 Zenobia St. Denver\, CO 80212
CATEGORIES:Pray with Us,Women
END:VEVENT
BEGIN:VEVENT
DTSTART;TZID=America/New_York:20250228T170000
DTEND;TZID=America/New_York:20250302T120000
DTSTAMP:20260423T055503
CREATED:20240904T152416Z
LAST-MODIFIED:20240904T152416Z
UID:12996-1740762000-1740916800@sistersoflife.org
SUMMARY:Young Women’s Retreat\, AZ
DESCRIPTION:“I Will Lead Her Into the Wilderness….and Speak to Her Heart” – Hosea 2:14 \nA chance to step aside from the business of your day to day routine\, and open your heart anew to Jesus’ Love\, peace and Mercy. \nFEBRUARY 28-MARCH 2\, 2025\nAZ \nRegistration details coming soon \n 
URL:https://sistersoflife.org/event/young-womens-retreat-az-2/
LOCATION:Arizona\, Arizona
CATEGORIES:Retreats,Women
END:VEVENT
BEGIN:VEVENT
DTSTART;VALUE=DATE:20250220
DTEND;VALUE=DATE:20250226
DTSTAMP:20260423T055503
CREATED:20240831T195559Z
LAST-MODIFIED:20241119T162925Z
UID:12959-1740009600-1740527999@sistersoflife.org
SUMMARY:Our Lady of Guadalupe Pilgrimage
DESCRIPTION:Join the Archdiocese of New York Respect Life Office for a pilgrimage to Our Lady of Guadalupe in Mexico City!\nLed by the Sisters of Life and Fr. John Anthony\, CFR \, this pilgrimage will be an immersion in the charism of life through encountering the maternal love and presence of Our Lady of Guadalupe\, experiencing her impact on the local culture\, and learning from the witness of contemporary Mexican saints. As Patroness of the Americas and of the Unborn\, Our Lady of Guadalupe is a powerful intercessor and mother for all those involved in building and living a culture of life. We invite you to join us for this transformative experience!
URL:https://sistersoflife.org/event/our-lady-of-guadalupe-pilgrimage/
LOCATION:Mexico City
CATEGORIES:Pilgrimage,Women
END:VEVENT
BEGIN:VEVENT
DTSTART;TZID=UTC:20250201T180000
DTEND;TZID=UTC:20250201T210000
DTSTAMP:20260423T055503
CREATED:20240916T165021Z
LAST-MODIFIED:20250127T142341Z
UID:13221-1738432800-1738443600@sistersoflife.org
SUMMARY:Women’s Dinner & Holy Hour\, Denver\, CO
DESCRIPTION:Women’s Dinner & Holy Hour\nYou are invited to a night for young women (ages 18-35) that we are hosting at St. Mary Magdalene convent in Denver! The evening will go from 6-9pm\, beginning dinner at 6pm\, followed by a talk and adoration (confession is also available during this time). The evening will end with dessert and social time. We are so grateful to you for letting us know if you’re planning to come!
URL:https://sistersoflife.org/event/womens-dinner-holy-hour-denver-co-feb2025/
LOCATION:2771 Zenobia St. Denver\, CO 80212
CATEGORIES:Pray with Us,Women
END:VEVENT
BEGIN:VEVENT
DTSTART;TZID=UTC:20250118T103000
DTEND;TZID=UTC:20250118T170000
DTSTAMP:20260423T055503
CREATED:20240916T164120Z
LAST-MODIFIED:20240916T164221Z
UID:13212-1737196200-1737219600@sistersoflife.org
SUMMARY:Revive Days\, Denver\, CO
DESCRIPTION:Come\, be restored.\nWhat are Revive Days?\nRevive Days are open house prayer days with the Sisters of Life\, for women ages 18-35. \nThe days include silence\, Eucharistic Adoration\, meeting with a Sister\, art and reading\, a talk and prayer with the Sisters\, as well as coffee and snacks. \nBring your own lunch and a friend\, and join us anytime throughout the day!\n\nMore information here
URL:https://sistersoflife.org/event/revivedays-jan2025/
LOCATION:2771 Zenobia St. Denver\, CO 80212
CATEGORIES:Pray with Us,Women
END:VEVENT
BEGIN:VEVENT
DTSTART;TZID=UTC:20241214T100000
DTEND;TZID=UTC:20241214T130000
DTSTAMP:20260423T055503
CREATED:20241109T210645Z
LAST-MODIFIED:20241109T210645Z
UID:13289-1734170400-1734181200@sistersoflife.org
SUMMARY:Feminine Genius Brunch
DESCRIPTION:Feminine Genius Brunch\n\nDate: Saturday\, December 14th\, 2024\nTime: 10:00am to 1:00pm\nLocation: Our Lady of Mount Carmel Parish Center\, 90 Euclid Avenue\, Middletown\, NY 10940\nWebsite: https://www.eventbrite.com/e/feminine-genius-brunch-2024-tickets-856404036527\n\nAll women are invited to the Feminine Genius Brunch! This brunch borrows its name from those amazing God-given attributes endowed to you as women – receptivity\, sensitivity\, generosity\, and maternity – all of which make up the feminine genius. Sr. Mary Gabriel\, SV will give a talk on the beauty of the feminine heart. Come discover God’s plan for your ultimate flourishing! Invite a friend\, mother\, sister\, or daughter. Register by December 10th at adnyfemininegeniusbrunch.eventbrite.com. Please contact sr.anne.marie@archny.org with any questions.
URL:https://sistersoflife.org/event/feminine-genius-brunch-3/
LOCATION:Our Lady of Mount Carmel Parish Center\, 90 Euclid Avenue\, Middletown\, NY\, 10940
CATEGORIES:Women
END:VEVENT
BEGIN:VEVENT
DTSTART;TZID=UTC:20241130T180000
DTEND;TZID=UTC:20241130T210000
DTSTAMP:20260423T055503
CREATED:20240916T164852Z
LAST-MODIFIED:20241127T035733Z
UID:13218-1732989600-1733000400@sistersoflife.org
SUMMARY:CANCELLED Women’s Dinner & Holy Hour\, Denver\, CO
DESCRIPTION:CANCELLED Women’s Dinner & Holy Hour\nSorry for the inconvenience! We had to cancel this event. Thank you so much for your understanding. Know of our prayers!
URL:https://sistersoflife.org/event/womens-dinner-holy-hour-denver-co/
LOCATION:2771 Zenobia St. Denver\, CO 80212
CATEGORIES:Pray with Us,Women
END:VEVENT
BEGIN:VEVENT
DTSTART;TZID=UTC:20241019T103000
DTEND;TZID=UTC:20241019T170000
DTSTAMP:20260423T055503
CREATED:20240916T163901Z
LAST-MODIFIED:20240916T164438Z
UID:13205-1729333800-1729357200@sistersoflife.org
SUMMARY:Revive Days\, Denver\, CO
DESCRIPTION:Come\, be restored.\nWhat are Revive Days?\nRevive Days are open house prayer days with the Sisters of Life\, for women ages 18-35. \nThe days include silence\, Eucharistic Adoration\, meeting with a Sister\, art and reading\, a talk and prayer with the Sisters\, as well as coffee and snacks. \nBring your own lunch and a friend\, and join us anytime throughout the day!\n\n\nMore information here
URL:https://sistersoflife.org/event/reviveday-oct2024/
LOCATION:2771 Zenobia St. Denver\, CO 80212
CATEGORIES:Pray with Us,Women
END:VEVENT
BEGIN:VEVENT
DTSTART;VALUE=DATE:20240703
DTEND;VALUE=DATE:20240717
DTSTAMP:20260423T055503
CREATED:20240222T164742Z
LAST-MODIFIED:20240222T164742Z
UID:12192-1719964800-1721174399@sistersoflife.org
SUMMARY:Poland Summer Pilgrimage (Women)
DESCRIPTION:Join FOCUS and the Sisters of Life for a Summer Pilgrimage opportunity!\nPoland is yours to explore this summer as we build a culture of life by following in the footsteps of St. John Paul II.\nSee the sites of St. Maximilian Kolbe’s Marytown\, Czestochowa\, Auschwitz\, the Divine Mercy Shrine\, St. John Paul II’s hometown\, and more!
URL:https://sistersoflife.org/event/poland-summer-pilgrimage-women-2024/
LOCATION:Poland\, Poland
CATEGORIES:Pilgrimage,Women
END:VEVENT
BEGIN:VEVENT
DTSTART;VALUE=DATE:20240308
DTEND;VALUE=DATE:20240318
DTSTAMP:20260423T055503
CREATED:20240222T163750Z
LAST-MODIFIED:20240222T164535Z
UID:12186-1709856000-1710719999@sistersoflife.org
SUMMARY:New York Spring Break Mission Trip (Women)
DESCRIPTION:Join FOCUS and the Sisters of Life for a Spring Break Mission Trip opportunity!\nCome to New York to work side-by-side with the Sisters of Life in their apostolates to women in crisis pregnancies. The trip includes formation through the lens of the Charism of Life and opportunities for evangelization on the streets of New York City.
URL:https://sistersoflife.org/event/new-york-spring-break-mission-trip-women/
LOCATION:New York City Area
CATEGORIES:Evangelization,Mission Trip,Pilgrimage,Retreats,Women
END:VEVENT
BEGIN:VEVENT
DTSTART;VALUE=DATE:20240308
DTEND;VALUE=DATE:20240318
DTSTAMP:20260423T055503
CREATED:20240222T163150Z
LAST-MODIFIED:20240222T163150Z
UID:12183-1709856000-1710719999@sistersoflife.org
SUMMARY:Poland Spring Break Pilgrimage (Women)
DESCRIPTION:Join FOCUS and the Sisters of Life for a Spring Break Pilgrimage opportunity!\nPoland is yours to explore this spring break as we build a culture of life by following in the footsteps of St. John Paul II.\nSee the sites of St. Maximilian Kolbe’s Marytown\, Czestochowa\, Auschwitz\, the Divine Mercy Shrine\, St. John Paul II’s hometown\, and more!
URL:https://sistersoflife.org/event/poland-spring-break-pilgrimage-women-2024/
LOCATION:Poland\, Poland
CATEGORIES:Pilgrimage,Women
END:VEVENT
BEGIN:VEVENT
DTSTART;TZID=UTC:20231118T100000
DTEND;TZID=UTC:20231118T130000
DTSTAMP:20260423T055503
CREATED:20231016T204912Z
LAST-MODIFIED:20231016T204912Z
UID:11667-1700301600-1700312400@sistersoflife.org
SUMMARY:Feminine Genius Brunch
DESCRIPTION:This brunch borrows its name from those amazing God-given attributes endowed to you as women – receptivity\, sensitivity\, generosity\, and maternity – all of which make up the feminine genius! In addition to a lovely brunch at a beautiful location\, Sr. Virginia Joy\, SV will give a talk on the beauty of the feminine heart.\nCome discover God’s plan for your ultimate flourishing! Invite a friend\, mother\, sister\, or daughter!\nRSVP by November 14th at https://adnyfemininegeniusbrunch.eventbrite.com. Please contact sr.anne.marie@archny.org with any questions.\n  \n 
URL:https://sistersoflife.org/event/feminine-genius-brunch-2/
LOCATION:Nicotra’s Ballroom\, Hilton Garden Inn\, Staten Island\, 1100 South Ave\, Staten Island\, New York\, 10314
CATEGORIES:Women
ATTACH;FMTTYPE=image/png:https://sistersoflife.org/wp-content/uploads/2023/10/Feminine-Genius-Brunch-Nov2023.png
END:VEVENT
BEGIN:VEVENT
DTSTART;TZID=America/New_York:20230923T180000
DTEND;TZID=America/New_York:20230923T210000
DTSTAMP:20260423T055503
CREATED:20230919T025634Z
LAST-MODIFIED:20230919T030302Z
UID:11363-1695492000-1695502800@sistersoflife.org
SUMMARY:Denver Women’s Night and Holy Hour (ages 18-35)
DESCRIPTION:Join us for dinner\, a reflection by a Sister of Life\, Eucharistic Adoration with music led by the Sisters\, followed by dessert!
URL:https://sistersoflife.org/event/womens-night-and-holy-hour-ages-18-35/
LOCATION:Denver\, CO\, 2771 Zenobia Street\, Denver\, CO\, 80212\, United States
CATEGORIES:Pray with Us,Women
END:VEVENT
BEGIN:VEVENT
DTSTART;VALUE=DATE:20230703
DTEND;VALUE=DATE:20230717
DTSTAMP:20260423T055503
CREATED:20221126T192049Z
LAST-MODIFIED:20221126T192148Z
UID:10459-1688342400-1689551999@sistersoflife.org
SUMMARY:Poland Summer Pilgrimage (Women)
DESCRIPTION:Join FOCUS and the Sisters of Life for a Summer Pilgrimage opportunity!\nPoland is yours to explore this summer as we build a culture of life by following in the footsteps of St. John Paul II.\nSee the sites of St. Maximilian Kolbe’s Marytown\, Czestochowa\, Auschwitz\, the Divine Mercy Shrine\, St. John Paul II’s hometown\, and more!
URL:https://sistersoflife.org/event/poland-summer-pilgrimage-women/
LOCATION:Poland\, Poland
CATEGORIES:Pilgrimage,Women
END:VEVENT
END:VCALENDAR