BEGIN:VCALENDAR
VERSION:2.0
PRODID:-//Sisters of Life - ECPv6.15.20//NONSGML v1.0//EN
CALSCALE:GREGORIAN
METHOD:PUBLISH
X-WR-CALNAME:Sisters of Life
X-ORIGINAL-URL:https://sistersoflife.org
X-WR-CALDESC:Events for Sisters of Life
REFRESH-INTERVAL;VALUE=DURATION:PT1H
X-Robots-Tag:noindex
X-PUBLISHED-TTL:PT1H
BEGIN:VTIMEZONE
TZID:UTC
BEGIN:STANDARD
TZOFFSETFROM:+0000
TZOFFSETTO:+0000
TZNAME:UTC
DTSTART:20240101T000000
END:STANDARD
END:VTIMEZONE
BEGIN:VEVENT
DTSTART;TZID=UTC:20251004T123000
DTEND;TZID=UTC:20251004T170000
DTSTAMP:20260423T053643
CREATED:20250724T195306Z
LAST-MODIFIED:20251004T164736Z
UID:14218-1759581000-1759597200@sistersoflife.org
SUMMARY:Revive Days\, Denver\, CO
DESCRIPTION:Come\, be restored.\nWhat are Revive Days?\nRevive Days are open house prayer days with the Sisters of Life\, for women ages 18-35. \nThe days include silence\, Eucharistic Adoration\, meeting with a Sister\, art and reading\, a talk and prayer with the Sisters\, as well as coffee and snacks. \nBring your own lunch and a friend\, and join us anytime throughout the day!\n\n*Times subject to change – please check our website for updates**\n\n\nMore information here
URL:https://sistersoflife.org/event/revive-days-denver-co-oct25/
LOCATION:2771 Zenobia St. Denver\, CO 80212
CATEGORIES:Pray with Us,Women
END:VEVENT
BEGIN:VEVENT
DTSTART;TZID=UTC:20251011T180000
DTEND;TZID=UTC:20251011T210000
DTSTAMP:20260423T053643
CREATED:20250722T155949Z
LAST-MODIFIED:20250722T160031Z
UID:14160-1760205600-1760216400@sistersoflife.org
SUMMARY:Women’s Dinner & Holy Hour\, Denver\, CO
DESCRIPTION:Women’s Dinner & Holy Hour\nYou are invited to a night for young women (ages 18-35) that we are hosting at St. Mary Magdalene convent in Denver! The evening will go from 6-9pm\, beginning dinner at 6pm\, followed by a talk and adoration (confession is also available during this time). The evening will end with dessert and social time. We are so grateful to you for letting us know if you’re planning to come!
URL:https://sistersoflife.org/event/womens-dinner-holy-hour-denver-co-oct25/
LOCATION:2771 Zenobia St. Denver\, CO 80212
CATEGORIES:Pray with Us,Women
END:VEVENT
BEGIN:VEVENT
DTSTART;TZID=UTC:20251024T170000
DTEND;TZID=UTC:20251026T120000
DTSTAMP:20260423T053643
CREATED:20250724T202716Z
LAST-MODIFIED:20250724T202716Z
UID:14246-1761325200-1761480000@sistersoflife.org
SUMMARY:Women’s Retreat\, Augustine Institute
DESCRIPTION:A time to step out of the busy-ness of ordinary life to encounter the love\, peace\, and mercy of Jesus in a new way.\nFor women of all ages. \nArrival begins at 5:00 p.m. on Friday night with the retreat beginning at 6:00 p.m. with dinner. The retreat ends on Sunday after the Holy Sacrifice of the Mass\, about 12:00 p.m. \nWEEKEND INCLUDES: Introduction to prayer\, extended periods of silence\, Eucharistic Adoration\, Holy Mass on Saturday and Sunday\, conferences by Sisters\, opportunities for Sacramental Confession\, and the opportunity to meet with a Sister. \nDRESS CODE: Modest dress with appropriate clothes for Sunday. \nTHINGS TO BRING: Bible\, Rosary\, notebook or journal\, sneakers and casual clothes for walks. \nQUESTIONS? Please contact the Denver Sisters of Life at evangelization@sistersoflife.org or by phone: (720) 722-3485. \n**More details about registration forthcoming**
URL:https://sistersoflife.org/event/womens-retreat-augustine-institute/
LOCATION:Augustine Institute
CATEGORIES:Pray with Us,Retreats,Women
END:VEVENT
END:VCALENDAR