BEGIN:VCALENDAR
VERSION:2.0
PRODID:-//Sisters of Life - ECPv6.15.20//NONSGML v1.0//EN
CALSCALE:GREGORIAN
METHOD:PUBLISH
X-WR-CALNAME:Sisters of Life
X-ORIGINAL-URL:https://sistersoflife.org
X-WR-CALDESC:Events for Sisters of Life
REFRESH-INTERVAL;VALUE=DURATION:PT1H
X-Robots-Tag:noindex
X-PUBLISHED-TTL:PT1H
BEGIN:VTIMEZONE
TZID:UTC
BEGIN:STANDARD
TZOFFSETFROM:+0000
TZOFFSETTO:+0000
TZNAME:UTC
DTSTART:20240101T000000
END:STANDARD
END:VTIMEZONE
BEGIN:VEVENT
DTSTART;TZID=UTC:20251127T110000
DTEND;TZID=UTC:20251207T130000
DTSTAMP:20260419T090118
CREATED:20250724T203534Z
LAST-MODIFIED:20251125T040544Z
UID:14254-1764241200-1765112400@sistersoflife.org
SUMMARY:Sisters visiting Australia & New Zealand!
DESCRIPTION:**Please join us at any of the below public events. We are unable to add any additional events during this trip. We look forward to seeing you while we’re in Australia!** \nSchedule:\nFriday\, November 28 \nEVENT: Abide in My Love (Young Adult Evening) \nRegister Here! https://unicatholics.org.au/abiding-in-love \n6:00-9PM- A 30-minute talk in the crypt of the Church by Sr. Mary Grace SV\nFollowed by Small Groups\, Adoration followed by Evening Prayer led by Bishop Tony Percy\, with Music &reflections by the Sisters of Life. The evening ends with Pizza. \nSt. Patrick’s\, 20 Grosvenor St\, The Rocks 2000\, Sydney\, NSW\, AUSTRALIA \nSaturday\, November 29 \nEVENT: “No longer forsaken: the Lord delights in you” (Women’s Retreat) \nBook Tickets Here: https://www.trybooking.com/events/landing/1459737 \n1:00 PM – 5:00 PM: Join the Sisters of Life this Advent for an afternoon of prayer and reflection. The afternoon will include a time of reflection and prayerful silence. Light refreshments provided. \nSt Joachim’s Catholic Church\, 2 Mills Street\, Lidcombe NSW 2141Sydney\, NSW\, AUSTRALIA \nSunday\, November 30-Dec 2 \nEVENT: Australian Catholic Youth Festival \nMore info Here – https://acyf.org.au/ \nMelbourne Convention and Exhibition Centre\, Melbourne NSW\, AUSTRALIA \nThursday\, December 4 \nEVENT: Pro-Life Event  \nMore info here: https://www.facebook.com/share/1Bd7yCVugd/ \n6:30-9:15pm: Join the Sisters for an evening of prayer and reflection\, including a Talk\, witness and fellowship with a light supper! \nHoly Family Parish – St. Teresa’s Church\, 1/8 Puriri Street\, Riccarton\, Christchurch 8041\, NEW ZEALAND \nFriday\, December 5 \nEVENT: “Made for more: how to live life to the full” (Young Adult Night) \nMore info here: https://www.facebook.com/share/1Bd7yCVugd/ \n6:30-9:30pm: Join the Sisters and young adults a talk\, prayer with music led by the Sisters and fellowship! \nSt. Teresa’s Hall\, 1/8 Puriri Street\, Riccarton\, Christchurch 8041\, NEW ZEALAND \nSaturday\, December 6 \nEVENT: “No longer forsaken: the Lord delights in you” (Women’s Retreat) \nRegister Here: https://www.holyfamily.nz/nourish-your-faith/womens-retreat \n10AM-11:30AM: Vocations Talk & Q/A – Talk and conversation with the Sisters about their lives and vocation stories! \n11:45AM – 5:00 PM: Join the Sisters of Life this Advent for an afternoon of prayer and reflection. The afternoon will include talks\, Mass and prayer guided by the Sisters. Light refreshments provided. \nSt. Teresa’s Church & Hall\, 1/8 Puriri Street\, Riccarton\, Christchurch 8041\, NEW ZEALAND \nSunday\, December 7 \nEVENT: (All details for Christchurch NZ Here: https://www.holyfamily.nz/) \n10AM Mass: Join the Sisters for Sunday Mass at St. Teresa’s Church \nHoly Family Parish – St. Teresa’s Church\, 1/8 Puriri Street\, Riccarton\, Christchurch 8041\, NEW ZEALAND
URL:https://sistersoflife.org/event/australianewzealand/
LOCATION:Australia
CATEGORIES:Conference,Evangelization,Pray with Us
END:VEVENT
END:VCALENDAR