BEGIN:VCALENDAR
VERSION:2.0
PRODID:-//Sisters of Life - ECPv6.15.20//NONSGML v1.0//EN
CALSCALE:GREGORIAN
METHOD:PUBLISH
X-ORIGINAL-URL:https://sistersoflife.org
X-WR-CALDESC:Events for Sisters of Life
REFRESH-INTERVAL;VALUE=DURATION:PT1H
X-Robots-Tag:noindex
X-PUBLISHED-TTL:PT1H
BEGIN:VTIMEZONE
TZID:UTC
BEGIN:STANDARD
TZOFFSETFROM:+0000
TZOFFSETTO:+0000
TZNAME:UTC
DTSTART:20240101T000000
END:STANDARD
END:VTIMEZONE
BEGIN:VTIMEZONE
TZID:America/New_York
BEGIN:DAYLIGHT
TZOFFSETFROM:-0500
TZOFFSETTO:-0400
TZNAME:EDT
DTSTART:20240310T070000
END:DAYLIGHT
BEGIN:STANDARD
TZOFFSETFROM:-0400
TZOFFSETTO:-0500
TZNAME:EST
DTSTART:20241103T060000
END:STANDARD
BEGIN:DAYLIGHT
TZOFFSETFROM:-0500
TZOFFSETTO:-0400
TZNAME:EDT
DTSTART:20250309T070000
END:DAYLIGHT
BEGIN:STANDARD
TZOFFSETFROM:-0400
TZOFFSETTO:-0500
TZNAME:EST
DTSTART:20251102T060000
END:STANDARD
BEGIN:DAYLIGHT
TZOFFSETFROM:-0500
TZOFFSETTO:-0400
TZNAME:EDT
DTSTART:20260308T070000
END:DAYLIGHT
BEGIN:STANDARD
TZOFFSETFROM:-0400
TZOFFSETTO:-0500
TZNAME:EST
DTSTART:20261101T060000
END:STANDARD
END:VTIMEZONE
BEGIN:VEVENT
DTSTART;TZID=UTC:20250914T070000
DTEND;TZID=UTC:20250914T120000
DTSTAMP:20260421T091545
CREATED:20250724T195837Z
LAST-MODIFIED:20250724T195837Z
UID:14223-1757833200-1757851200@sistersoflife.org
SUMMARY:11th Annual Nun Run
DESCRIPTION:Join the Sisters of Life for the 11th Annual Nun Run in Denver\, Colorado!\nWe are excited to be together for this year’s Nun Run Charity Race that supports the Denver Sisters of Life.\nRace day starts in deKoevend park with a Half-Marathon\, followed by a 5k and 5k buggy run (parents with their little ones in strollers) all along the beautiful High Line Canal\, followed by a 1 Mile Family Walk within the park.\nWE ARE SO EXCITED TO OFFER MASS IN THE PARK AT 11 AM FOLLOWING THE RACES.\nThe Sisters are very excited to see everyone.\nFor more information\, or to register: https://www.nunrunsistersoflife.com/ \n 
URL:https://sistersoflife.org/event/11th-annual-nun-run/
LOCATION:Denver\, CO\, 2771 Zenobia Street\, Denver\, CO\, 80212\, United States
CATEGORIES:Celebration
END:VEVENT
BEGIN:VEVENT
DTSTART;TZID=UTC:20250806T093000
DTEND;TZID=UTC:20250806T120000
DTSTAMP:20260421T091545
CREATED:20250724T192602Z
LAST-MODIFIED:20250724T192602Z
UID:14208-1754472600-1754481600@sistersoflife.org
SUMMARY:Profession of Final Vows
DESCRIPTION:The Sisters of Life joyfully invite you to the Profession of Final Vows of Sr. Beata Victoria\, Sr. Leonie Therese\, and Sr. Maria Augustine\n9:30am Preludes Begin\n10am Holy Sacrifice of the Mass
URL:https://sistersoflife.org/event/profession-of-final-vows-2025/
LOCATION:St. Patrick’s Cathedral\, NYC\, 5th Ave\, New York\, NY\, United States
CATEGORIES:Celebration
END:VEVENT
BEGIN:VEVENT
DTSTART;TZID=America/New_York:20250503T143000
DTEND;TZID=America/New_York:20250503T183000
DTSTAMP:20260421T091545
CREATED:20250308T004102Z
LAST-MODIFIED:20250308T004102Z
UID:13569-1746282600-1746297000@sistersoflife.org
SUMMARY:25th Anniversary Celebration of Cardinal O’Connor
DESCRIPTION:We invite you to join us as we celebrate Cardinal O’Connor’s legacy of life and love on May 3\, 2025\, the 25th anniversary of his entrance into eternal life. \n2:30-5:30 pm Block party on John Cardinal O’Connor Way (E. 50th between 5th and Madison) (beside St. Patrick’s Cathedral) \n5:30 pm Vigil Memorial Mass (at St. Patrick’s Cathedral)
URL:https://sistersoflife.org/event/25th-anniversary-celebration-of-cardinal-oconnor/
LOCATION:St. Patrick’s Cathedral\, NYC\, 5th Ave\, New York\, NY\, United States
CATEGORIES:Celebration,Pray with Us
ATTACH;FMTTYPE=image/png:https://sistersoflife.org/wp-content/uploads/2025/03/Screenshot-2025-03-07-at-5.39.54 PM.png
END:VEVENT
END:VCALENDAR