BEGIN:VCALENDAR
VERSION:2.0
PRODID:-//Sisters of Life - ECPv6.15.20//NONSGML v1.0//EN
CALSCALE:GREGORIAN
METHOD:PUBLISH
X-ORIGINAL-URL:https://sistersoflife.org
X-WR-CALDESC:Events for Sisters of Life
REFRESH-INTERVAL;VALUE=DURATION:PT1H
X-Robots-Tag:noindex
X-PUBLISHED-TTL:PT1H
BEGIN:VTIMEZONE
TZID:UTC
BEGIN:STANDARD
TZOFFSETFROM:+0000
TZOFFSETTO:+0000
TZNAME:UTC
DTSTART:20230101T000000
END:STANDARD
END:VTIMEZONE
BEGIN:VTIMEZONE
TZID:America/New_York
BEGIN:DAYLIGHT
TZOFFSETFROM:-0500
TZOFFSETTO:-0400
TZNAME:EDT
DTSTART:20240310T070000
END:DAYLIGHT
BEGIN:STANDARD
TZOFFSETFROM:-0400
TZOFFSETTO:-0500
TZNAME:EST
DTSTART:20241103T060000
END:STANDARD
BEGIN:DAYLIGHT
TZOFFSETFROM:-0500
TZOFFSETTO:-0400
TZNAME:EDT
DTSTART:20250309T070000
END:DAYLIGHT
BEGIN:STANDARD
TZOFFSETFROM:-0400
TZOFFSETTO:-0500
TZNAME:EST
DTSTART:20251102T060000
END:STANDARD
BEGIN:DAYLIGHT
TZOFFSETFROM:-0500
TZOFFSETTO:-0400
TZNAME:EDT
DTSTART:20260308T070000
END:DAYLIGHT
BEGIN:STANDARD
TZOFFSETFROM:-0400
TZOFFSETTO:-0500
TZNAME:EST
DTSTART:20261101T060000
END:STANDARD
BEGIN:DAYLIGHT
TZOFFSETFROM:-0500
TZOFFSETTO:-0400
TZNAME:EDT
DTSTART:20270314T070000
END:DAYLIGHT
BEGIN:STANDARD
TZOFFSETFROM:-0400
TZOFFSETTO:-0500
TZNAME:EST
DTSTART:20271107T060000
END:STANDARD
END:VTIMEZONE
BEGIN:VEVENT
DTSTART;TZID=UTC:20241202T110000
DTEND;TZID=UTC:20241205T130000
DTSTAMP:20260425T070447
CREATED:20240831T163346Z
LAST-MODIFIED:20240831T163346Z
UID:12922-1733137200-1733403600@sistersoflife.org
SUMMARY:Sisters visiting Tennessee!
DESCRIPTION:**Please join us at any of the below public events. We are unable to add any additional events during this trip. We look forward to seeing you while we’re in Tennessee!** \nSchedule:\nMonday\, December 2nd – Thursday\, December 5th\n\n\n\nMore details forthcoming
URL:https://sistersoflife.org/event/sisters-visiting-tennessee-2024/
LOCATION:Tennessee
CATEGORIES:Campus visit,Evangelization,Pray with Us
END:VEVENT
BEGIN:VEVENT
DTSTART;TZID=UTC:20241205T110000
DTEND;TZID=UTC:20241209T130000
DTSTAMP:20260425T070447
CREATED:20240831T163506Z
LAST-MODIFIED:20241119T212854Z
UID:12921-1733396400-1733749200@sistersoflife.org
SUMMARY:Advent Mission: Wisconsin!
DESCRIPTION:**Please join us at any of the below public events. We are unable to add any additional events during this trip. We look forward to seeing you while we’re in Wisconsin!** \nSchedule:\nThursday\, December 5th\n\n\n\nParish Mission at St. Francis de Sales in Lake Geneva – 6pm Potluck\, followed by 7pm Talk by the Sisters and 7:30pm Adoration with music\n\n\n\nFriday\, December 6th\n\n\n\nSchool Visit – Divine Savior High School in Milwaukee\nSchool Visit – Marquette High School in Milwaukee\nParish Mission at St. Jerome in Oconomowoc – 6pm Fish Fry\, followed by 7pm Talk by the Sisters and 7:30pm Adoration with music\n\n\n\nSaturday\, December 7th\n\n\n\nFeminine Genius Brunch at Bethany House in Milwaukee\nParish Mission at Immaculate Conception in Milwaukee – 4:30pm Mass\, 5:30pm Potluck\, followed by 7pm Talk by the Sisters and7:30pm Adoration with music\n\n\n\nSunday\, December 8th\n\n\n\nParish mission at St. Francis Xavier in Lake Mills – 9:45am Talk by a Sister\, followed by 10:30am Mass\nOur Lady of Guadalupe Mass and Reception at St. Bernard in Watertown\nParish Mission at St. John Vianney in Brookfield – 6:15pm Potluck\, followed by 7pm Talk by the Sisters and 7:30pm Adoration with music
URL:https://sistersoflife.org/event/sisters-visiting-wisconsin-2024/
LOCATION:Wisconsin\, Wisconsin
CATEGORIES:Campus visit,Evangelization,Parish Mission,Pray with Us
END:VEVENT
BEGIN:VEVENT
DTSTART;TZID=UTC:20241205T110000
DTEND;TZID=UTC:20241209T130000
DTSTAMP:20260425T070447
CREATED:20240831T163831Z
LAST-MODIFIED:20241207T163221Z
UID:12920-1733396400-1733749200@sistersoflife.org
SUMMARY:Advent Mission: North Carolina!
DESCRIPTION:**Please join us at any of the below public events. We are unable to add any additional events during this trip. We look forward to seeing you while we’re in North Carolina!** \nSchedule:\nThursday\, December 5th\n\n\n\nParish Mission at St. Peter in Greenville – 7pm talk by the Sisters\, followed by 7:30pm Adoration and 8:30pm Social\n\n\n\nFriday\, December 6th\n\n\n\nSchool visit to St. Raphael the Archangel in Raleigh\nCampus visit to Duke University\n\n\n\nSaturday\, December 7th\n\n\n\nCampus visit to Duke University\nParish Retreat at Our Lady of Grace Parish (12pm-3:45pm) (NOT St. Pius X) in Greensboro (more details forthcoming)
URL:https://sistersoflife.org/event/sisters-visiting-northcarolina-2024/
LOCATION:North Carolina
CATEGORIES:Campus visit,Evangelization,Parish Mission,Pray with Us
END:VEVENT
BEGIN:VEVENT
DTSTART;TZID=UTC:20250217T110000
DTEND;TZID=UTC:20250221T130000
DTSTAMP:20260425T070447
CREATED:20240831T165822Z
LAST-MODIFIED:20240831T165822Z
UID:12931-1739790000-1740142800@sistersoflife.org
SUMMARY:Sisters visiting Indiana!
DESCRIPTION:**Please join us at any of the below public events. We are unable to add any additional events during this trip. We look forward to seeing you while we’re in Indiana!** \nSchedule:\nMonday\, February 17th – Friday\, February 21st\n\n\n\nMore details forthcoming
URL:https://sistersoflife.org/event/sisters-visiting-indiana-2025/
LOCATION:Indiana
CATEGORIES:Campus visit,Evangelization,Pray with Us
END:VEVENT
BEGIN:VEVENT
DTSTART;TZID=UTC:20250220T110000
DTEND;TZID=UTC:20250223T130000
DTSTAMP:20260425T070447
CREATED:20240831T165943Z
LAST-MODIFIED:20250218T221510Z
UID:12930-1740049200-1740315600@sistersoflife.org
SUMMARY:Sisters visiting Oregon!
DESCRIPTION:**Please join us at any of the below public events. We are unable to add any additional events during this trip. We look forward to seeing you while we’re in Oregon!** \nSchedule:\nThursday\, February 20th\n\n\n\nParish Mission – Christ the King Parish in Milwaukie\n\n6pm Talk\, 6:30pm Adoration with music by the Sisters\, followed by 7pm Reception\n\n\n\n\n\nFriday\, February 21st\n\n\n\nSchool Visit – Our Lady of the Lake Catholic School in Oswego\nParish Mission – Our Lady of the Lake Parish in Oswego\n\n6:30pm Talk\, followed by Adoration with music by the Sisters and a Reception\n\n\n\n\n\nSaturday\, February 22nd\n\n\n\nParish Mission – St. Michael the Archangel in Portland\n\n8:30am Mass\, followed by 9:30am Talk in Parish Hall\n\n\nPrayer Vigil and Rosary – Lilith Clinic Abortion Facility at 10:30am\nParish Mission – St. Alice Catholic Church in Springfield\n\n6pm Potluck dinner\, followed by 7pm Talk\, Adoration with music by the Sisters\, and Reception\n\n\n\n\n\nSunday\, February 23rd\n\n\n\nCampus visit – University of Oregon
URL:https://sistersoflife.org/event/sisters-visiting-oregon-2025/
LOCATION:Oregon
CATEGORIES:Campus visit,Evangelization,Parish Mission,Pray with Us
END:VEVENT
BEGIN:VEVENT
DTSTART;TZID=UTC:20250220T110000
DTEND;TZID=UTC:20250223T130000
DTSTAMP:20260425T070447
CREATED:20240831T195125Z
LAST-MODIFIED:20250130T230524Z
UID:12954-1740049200-1740315600@sistersoflife.org
SUMMARY:Cancelled: Sisters visiting New Jersey
DESCRIPTION:CANCELLED \nSchedule:\nThursday\, February 20th – Sunday\, February 23rd\n\n\n\nMore details forthcoming
URL:https://sistersoflife.org/event/sisters-visiting-new-jersey/
LOCATION:New Jersey
CATEGORIES:Campus visit,Evangelization,Parish Mission,Pray with Us
END:VEVENT
BEGIN:VEVENT
DTSTART;TZID=UTC:20250220T110000
DTEND;TZID=UTC:20250223T130000
DTSTAMP:20260425T070447
CREATED:20240831T195241Z
LAST-MODIFIED:20240831T195305Z
UID:12951-1740049200-1740315600@sistersoflife.org
SUMMARY:Sisters visiting California!
DESCRIPTION:**Please join us at any of the below public events. We are unable to add any additional events during this trip. We look forward to seeing you while we’re in California!** \nSchedule:\nThursday\, February 20th – Sunday\, February 23rd\n\n\n\nCampus visit to USC
URL:https://sistersoflife.org/event/sisters-visiting-california-2024/
LOCATION:California\, California
CATEGORIES:Campus visit,Evangelization,Parish Mission,Pray with Us
END:VEVENT
BEGIN:VEVENT
DTSTART;TZID=UTC:20250307T140000
DTEND;TZID=UTC:20250309T170000
DTSTAMP:20260425T070447
CREATED:20240831T200111Z
LAST-MODIFIED:20250228T160132Z
UID:12962-1741356000-1741539600@sistersoflife.org
SUMMARY:Sisters visiting Kansas!
DESCRIPTION:**Please join us at any of the below public events. We are unable to add any additional events during this trip. We look forward to seeing you while we’re in Kansas!** \nSchedule:\nFriday\, March 7th – Saturday\, March 8th\n\nSchool Visit to Kapaun Mt. Carmel High School\n\nSaturday\, March 8th\n\nDiocese of Wichita Women’s Conference – 8am-3pm\, including a talk by Sr. Mary Grace\n\nMore information can be found here\n\n\n\nSunday\, March 9th\n\nCampus Visit to Wichita State University
URL:https://sistersoflife.org/event/kansas-womens-conference/
LOCATION:Kansas\, Kansas
CATEGORIES:Campus visit,Conference,Evangelization
END:VEVENT
BEGIN:VEVENT
DTSTART;TZID=UTC:20250407T110000
DTEND;TZID=UTC:20250411T130000
DTSTAMP:20260425T070447
CREATED:20240831T200840Z
LAST-MODIFIED:20240831T200852Z
UID:12958-1744023600-1744376400@sistersoflife.org
SUMMARY:Sisters visiting Minnesota!
DESCRIPTION:**Please join us at any of the below public events. We are unable to add any additional events during this trip. We look forward to seeing you while we’re in Minnesota!** \nSchedule:\nMonday\, April 7th – Friday\, April 11th\n\n\n\nMore details forthcoming
URL:https://sistersoflife.org/event/sisters-visiting-minnesota-2025/
LOCATION:Minnesota
CATEGORIES:Campus visit,Evangelization,Pray with Us
END:VEVENT
BEGIN:VEVENT
DTSTART;TZID=UTC:20250407T110000
DTEND;TZID=UTC:20250411T130000
DTSTAMP:20260425T070447
CREATED:20240831T201038Z
LAST-MODIFIED:20240831T201038Z
UID:12975-1744023600-1744376400@sistersoflife.org
SUMMARY:Sisters visiting Louisiana!
DESCRIPTION:**Please join us at any of the below public events. We are unable to add any additional events during this trip. We look forward to seeing you while we’re in Louisiana!** \nSchedule:\nMonday\, April 7th – Friday\, April 11th\n\n\n\nMore details forthcoming
URL:https://sistersoflife.org/event/sisters-visiting-louisiana-2025/
LOCATION:Louisiana\, Louisiana
CATEGORIES:Campus visit,Evangelization,Pray with Us
END:VEVENT
BEGIN:VEVENT
DTSTART;TZID=UTC:20250410T110000
DTEND;TZID=UTC:20250414T130000
DTSTAMP:20260425T070447
CREATED:20240831T201210Z
LAST-MODIFIED:20250327T192257Z
UID:12974-1744282800-1744635600@sistersoflife.org
SUMMARY:Lent Mission: Georgia!
DESCRIPTION:**Please join us at any of the below public events. We are unable to add any additional events during this trip. We look forward to seeing you while we’re in Georgia!** \nSchedule:\nThursday\, April 10th\n\n\n\nCampus visit to Georgia Tech\n\n\n\nFriday\, April 11th\n\n\n\n“Pack the Cathedral” Young Adult event at Christ the King Cathedral in Atlanta – 7pm Fish Fry\, 8pm Talk by the Sisters & Holy Hour\n\n\n\nSaturday\, April 12th\n\n\n\nCampus visit to the University of Georgia\nParish mission at All Saints in Dunwoody – 6:30pm Talk by the Sisters\, followed by 7pm Adoration (with music by the Sisters)
URL:https://sistersoflife.org/event/lent-mission-georgia/
LOCATION:Georgia
CATEGORIES:Campus visit,Evangelization,Parish Mission,Pray with Us
END:VEVENT
BEGIN:VEVENT
DTSTART;TZID=UTC:20250410T110000
DTEND;TZID=UTC:20250414T130000
DTSTAMP:20260425T070447
CREATED:20240831T201319Z
LAST-MODIFIED:20250327T154710Z
UID:12979-1744282800-1744635600@sistersoflife.org
SUMMARY:Lent Mission: Massachusetts!
DESCRIPTION:**Please join us at any of the below public events. We are unable to add any additional events during this trip. We look forward to seeing you while we’re in Massachusetts!** \nSchedule:\nThursday\, April 10th\n\n\n\nParish Mission at St. Catherine of Siena in Norwood – 6pm Dinner\, 6:30pm Talk by the Sisters\, 7pm Adoration\n\n\n\nFriday\, April 11th\n\n\n\nSchool Visit – St. Catherine of Siena in Norwood\nSchool Visit – St. Benedict in Natick\nParish Mission at St. Michael in Hudson – 6pm Adoration\, 7pm Stations\, 7:45pm Talk by the Sisters\, 8:15pm Social\n\n\n\nSaturday\, April 12th\n\n\n\nFeminine Genius Brunch at Our Lady of Mercy in Worcester – 9am-12pm (Register here)\n\n9am Divine Liturgy\, 9:45am Registration\, 10am Welcome\, 10:15am Opening prayer and brunch\, 10:45am Introduction Talk by the Sisters\, followed by fellowship or round table discussion/sharing\n\n\nParish Mission at St. Ann by the Sea in Marshfield – 6pm Dinner\, 6:30pm Talk by the Sisters\, 7pm Adoration\, 8pm Social\n\n\n\nSunday\, April 13th\n\n\n\nParish Mission at St. Elizabeth Church (Our Lady of the Visitation Parish) in Milton – 9:15am Mass\, 10:15am Talk by the Sisters\, 10:45am Adoration
URL:https://sistersoflife.org/event/lent-mission-massachusetts-2025/
LOCATION:Massachusetts\, Massachusetts
CATEGORIES:Campus visit,Evangelization,Parish Mission,Pray with Us
END:VEVENT
BEGIN:VEVENT
DTSTART;TZID=UTC:20250910T110000
DTEND;TZID=UTC:20250913T130000
DTSTAMP:20260425T070447
CREATED:20250724T195700Z
LAST-MODIFIED:20250813T185150Z
UID:14217-1757502000-1757768400@sistersoflife.org
SUMMARY:Sisters visiting San Francisco\, CA
DESCRIPTION:**Please join us at any of the below public events. We are unable to add any additional events during this trip. We look forward to seeing you while we’re in California!** \nSchedule:\nWednesday\, September 10 \nEVENT: Source Holy Hour (Adoration with Music & Testimonies by Sisters)\, followed by fellowship \n7pm – 830pm \nSt. Mary’s in Walnut Creek (2051 Mt. Diablo Blvd. Walnut Creek\, CA 94596) \nThursday\, September 11 \nEVENT: Campus Visit to University of California \nBerkeley\, CA \nFriday\, September 12 \nEVENT: Oakland Diocese Catholic School Teachers\, Annual Gathering \n9am – 12pm \nCathedral of Christ the Light\, 2121 Harrison Street\, Suite 100\, Oakland\, CA 94612 \nEVENT: Source Holy Hour (Adoration with Music & Testimonies by Sisters)\, followed by fellowship \n6pm – 830pm \nSt. Raymond Parish\, Dublin\, CA \nSaturday\, September 13 \nEVENT: Magnificat Prayer Breakfast\n9:30 am to 12:30pm \nCathedral of Christ the Light\, 2121 Harrison Street\, Suite 100\, Oakland\, CA 94612 \nMore info: https://magnificat-ministry.net/chapters/ca-walnut-creek/ \nEVENT: Let Love Heal You (Talk\, Testimony by Sisters) \n1:30pm – 3:30pm \nSt. Gregory Parish\, 2715 Hacienda Street\, San Mateo CA
URL:https://sistersoflife.org/event/sisters-visiting-california-sept25/
LOCATION:California\, California
CATEGORIES:Campus visit,Evangelization,Parish Mission,Pray with Us
END:VEVENT
BEGIN:VEVENT
DTSTART;VALUE=DATE:20250922
DTEND;VALUE=DATE:20250923
DTSTAMP:20260425T070447
CREATED:20250906T200736Z
LAST-MODIFIED:20250906T200736Z
UID:14470-1758499200-1758585599@sistersoflife.org
SUMMARY:University of Denver – Campus Visit
DESCRIPTION:See more info here
URL:https://sistersoflife.org/event/university-of-denver-campus-visit/
CATEGORIES:Campus visit
END:VEVENT
BEGIN:VEVENT
DTSTART;VALUE=DATE:20250924
DTEND;VALUE=DATE:20250925
DTSTAMP:20260425T070447
CREATED:20250906T211746Z
LAST-MODIFIED:20250906T211758Z
UID:14476-1758672000-1758758399@sistersoflife.org
SUMMARY:School of Mines – Campus Visit
DESCRIPTION:See more info here
URL:https://sistersoflife.org/event/school-of-mines-campus-visit/
CATEGORIES:Campus visit
END:VEVENT
BEGIN:VEVENT
DTSTART;VALUE=DATE:20250925
DTEND;VALUE=DATE:20250926
DTSTAMP:20260425T070447
CREATED:20250906T212115Z
LAST-MODIFIED:20250906T212115Z
UID:14479-1758758400-1758844799@sistersoflife.org
SUMMARY:Colorado State University – Campus Visit
DESCRIPTION:See more info here
URL:https://sistersoflife.org/event/colorado-state-university-campus-visit/
CATEGORIES:Campus visit
END:VEVENT
BEGIN:VEVENT
DTSTART;VALUE=DATE:20251029
DTEND;VALUE=DATE:20251030
DTSTAMP:20260425T070447
CREATED:20250906T212403Z
LAST-MODIFIED:20250906T212403Z
UID:14481-1761696000-1761782399@sistersoflife.org
SUMMARY:Auraria – Campus Visit
DESCRIPTION:See more info here
URL:https://sistersoflife.org/event/auraria-campus-visit/
CATEGORIES:Campus visit
END:VEVENT
BEGIN:VEVENT
DTSTART;VALUE=DATE:20251106
DTEND;VALUE=DATE:20251107
DTSTAMP:20260425T070447
CREATED:20251020T151851Z
LAST-MODIFIED:20251020T151946Z
UID:14746-1762387200-1762473599@sistersoflife.org
SUMMARY:Temple University – Campus Visit
DESCRIPTION:See more info here
URL:https://sistersoflife.org/event/campus-visit-temple-univeristy/
CATEGORIES:Campus visit
END:VEVENT
BEGIN:VEVENT
DTSTART;VALUE=DATE:20260206
DTEND;VALUE=DATE:20260210
DTSTAMP:20260425T070447
CREATED:20251024T151816Z
LAST-MODIFIED:20251024T151816Z
UID:14783-1770336000-1770681599@sistersoflife.org
SUMMARY:Texas A&M
DESCRIPTION:More information coming soon!
URL:https://sistersoflife.org/event/texas-am/
CATEGORIES:Campus visit
END:VEVENT
BEGIN:VEVENT
DTSTART;VALUE=DATE:20260317
DTEND;VALUE=DATE:20260322
DTSTAMP:20260425T070447
CREATED:20251024T154058Z
LAST-MODIFIED:20251024T154058Z
UID:14801-1773705600-1774137599@sistersoflife.org
SUMMARY:Visit to the University of Mary and North Dakota State University
DESCRIPTION:The Sisters will be visiting the University of Mary and North Dakota State University! Come and say hello! More information coming soon.
URL:https://sistersoflife.org/event/visit-to-the-university-of-mary-and-north-dakota-state-university/
CATEGORIES:Campus visit
END:VEVENT
END:VCALENDAR