BEGIN:VCALENDAR
VERSION:2.0
PRODID:-//Sisters of Life - ECPv6.15.20//NONSGML v1.0//EN
CALSCALE:GREGORIAN
METHOD:PUBLISH
X-ORIGINAL-URL:https://sistersoflife.org
X-WR-CALDESC:Events for Sisters of Life
REFRESH-INTERVAL;VALUE=DURATION:PT1H
X-Robots-Tag:noindex
X-PUBLISHED-TTL:PT1H
BEGIN:VTIMEZONE
TZID:UTC
BEGIN:STANDARD
TZOFFSETFROM:+0000
TZOFFSETTO:+0000
TZNAME:UTC
DTSTART:20230101T000000
END:STANDARD
END:VTIMEZONE
BEGIN:VEVENT
DTSTART;TZID=UTC:20240416T110000
DTEND;TZID=UTC:20240501T130000
DTSTAMP:20260421T072041
CREATED:20240227T221824Z
LAST-MODIFIED:20240420T155824Z
UID:12271-1713265200-1714568400@sistersoflife.org
SUMMARY:Sisters visiting Australia!
DESCRIPTION:**Please join us at any of the below public events. We are unable to add any additional events during this trip. We look forward to seeing you while we’re in Australia!** \nSchedule:\nThursday\, April 18th\n\nParousia Podcast\nCity Compass at 6:30pm – talk by a Sister & Holy Hour with music\nBishops Blend event at 7:30pm – talk by a Sister\, followed by Q&A (Register here)\n\nFriday\, April 19th\n\nCampus visit to UTS\nNotre Dame Chaplaincy Reflection Evening (Register here)\n\nSaturday\, April 20th\n\nAlumni Retreat for St. Martha’s\, Leichhardt (Register here)\n\nSunday\, April 21st\n\nWomen’s Event at Tangara School for Girls (Register here)\n\nMonday\, April 22nd\n\nACU Retreat at Campion\n\nTuesday\, April 23rd\n\nCampus visit to USYD (Details here)\n\nWednesday\, April 24th\n\nCampus visit to USYD (Details here)\nFidelis Young Adult Night at ACU Strathfield – 6pm talk by the Sisters\, followed by Q&A\n\nThursday\, April 25th\n\nYoung Adult Night at The Emmanuel Centre (123 Abbott St\, Newstead\, Launceston) – 5pm talk by the Sisters\n\nFriday\, April 26th – Sunday\, April 28th\n\nLife to the Full Conference at Camp Clayton (Details here)\n\nMonday\, April 29th\n\nCampus visit to Australian Catholic University\nVeritas Youth Group in Toowoomba\n\nTuesday\, April 30th\n\nDiocesan Networking Event for Assistants to Principals & Religious Education – talk by the Sisters
URL:https://sistersoflife.org/event/sisters-visiting-australia/
LOCATION:Australia
CATEGORIES:Campus visit,Conference,Evangelization,Parish Mission,Pray with Us,Retreats
END:VEVENT
BEGIN:VEVENT
DTSTART;TZID=UTC:20240506T110000
DTEND;TZID=UTC:20240509T130000
DTSTAMP:20260421T072042
CREATED:20240224T210132Z
LAST-MODIFIED:20240429T160321Z
UID:12208-1714993200-1715259600@sistersoflife.org
SUMMARY:Sisters visiting California!
DESCRIPTION:**Please join us at any of the below public events. We are unable to add any additional events during this trip. We look forward to seeing you while we’re in California!** \nSchedule:\nMonday\, May 6th\n\nCampus Visit to UCLA\n\nTuesday\, May 7th\n\nFilm Premiere of ‘Jesus Thirsts’ (the trailer is available here)\n\nWednesday\, May 8th\n\nParish Mission – San Antonio Catholic Church in Anaheim Hills\, CA\n\n8:30am Mass\, 9am Music & Presentation by a Sister\, 9:30am Rosary\, 10am Mingle with parishioners\n3:30pm Visit with RE classes/presentation by a Sister\, 7pm Presentation Church Hall by a Sister\, 8:30pm Mingle with Parishioners & Depart\n\n\n\n 
URL:https://sistersoflife.org/event/sisters-visiting-california-2/
LOCATION:California\, California
CATEGORIES:Campus visit,Evangelization,Parish Mission,Pray with Us
END:VEVENT
BEGIN:VEVENT
DTSTART;TZID=UTC:20240506T173000
DTEND;TZID=UTC:20240509T130000
DTSTAMP:20260421T072042
CREATED:20240224T171825Z
LAST-MODIFIED:20240429T194426Z
UID:12209-1715016600-1715259600@sistersoflife.org
SUMMARY:Sisters visiting Idaho!
DESCRIPTION:**Please join us at any of the below public events. We are unable to add any additional events during this trip. We look forward to seeing you while we’re in Idaho!** \nSchedule:\nMonday\, May 6th\n\n7pm: Fire Pit Ministry with Theology on Tap at Holy Apostles Catholic Church in Meridian\, ID\n\nTalk by the Sisters & Q/A\, followed by a social\n\n\n\nTuesday\, May 7th\n\nSchool Visit to Bishop Kelly High School\, Boise\, ID\nMeetings with Angels Among Us\, Into Life Leaders from St. John’s\nPro-Life Leadership Event with Treasure Valley Respect Life Parish Leaders at Our Lady of the Valley Parish in Caldwell\, ID\n\nWednesday\, May 8th\n\nSalt & Light Radio Interview/Podcast\nCampus Visit to Boise State University\nExalt Night at St. Mark’s Catholic Church in Boise\, ID (details here)\n\nThursday\, May 9th\n\nSchool Visit to St. Edward’s in Twin Falls\, ID\nParish Mission at St. Edward’s Parish in Twin Falls\, ID\n\n6:30pm Talk by the Sisters\, 6:50-7:50pm Adoration with Music led by Sisters
URL:https://sistersoflife.org/event/sisters-visiting-idaho/
LOCATION:Idaho
CATEGORIES:Campus visit,Evangelization,Parish Mission,Pray with Us
END:VEVENT
END:VCALENDAR