BEGIN:VCALENDAR
VERSION:2.0
PRODID:-//Sisters of Life - ECPv6.15.20//NONSGML v1.0//EN
CALSCALE:GREGORIAN
METHOD:PUBLISH
X-ORIGINAL-URL:https://sistersoflife.org
X-WR-CALDESC:Events for Sisters of Life
REFRESH-INTERVAL;VALUE=DURATION:PT1H
X-Robots-Tag:noindex
X-PUBLISHED-TTL:PT1H
BEGIN:VTIMEZONE
TZID:UTC
BEGIN:STANDARD
TZOFFSETFROM:+0000
TZOFFSETTO:+0000
TZNAME:UTC
DTSTART:20230101T000000
END:STANDARD
END:VTIMEZONE
BEGIN:VEVENT
DTSTART;TZID=UTC:20240312T100000
DTEND;TZID=UTC:20240314T200000
DTSTAMP:20260425T065519
CREATED:20240224T223539Z
LAST-MODIFIED:20240224T223539Z
UID:12243-1710237600-1710446400@sistersoflife.org
SUMMARY:ASU Campus Visit
DESCRIPTION:Schedule:\nTuesday\, March 12th – Thursday\, March 14th\n\nCampus visit to ASU
URL:https://sistersoflife.org/event/asu-campus-visit-3/
LOCATION:ASU
CATEGORIES:Campus visit,Evangelization,Pray with Us
END:VEVENT
END:VCALENDAR