BEGIN:VCALENDAR
VERSION:2.0
PRODID:-//Sisters of Life - ECPv6.15.20//NONSGML v1.0//EN
CALSCALE:GREGORIAN
METHOD:PUBLISH
X-ORIGINAL-URL:https://sistersoflife.org
X-WR-CALDESC:Events for Sisters of Life
REFRESH-INTERVAL;VALUE=DURATION:PT1H
X-Robots-Tag:noindex
X-PUBLISHED-TTL:PT1H
BEGIN:VTIMEZONE
TZID:UTC
BEGIN:STANDARD
TZOFFSETFROM:+0000
TZOFFSETTO:+0000
TZNAME:UTC
DTSTART:20230101T000000
END:STANDARD
END:VTIMEZONE
BEGIN:VEVENT
DTSTART;TZID=UTC:20240206T100000
DTEND;TZID=UTC:20240208T200000
DTSTAMP:20260425T081716
CREATED:20240224T223438Z
LAST-MODIFIED:20240224T223700Z
UID:12244-1707213600-1707422400@sistersoflife.org
SUMMARY:ASU Campus Visit
DESCRIPTION:Schedule:\nTuesday\, February 6th – Thursday\, February 8th\n\nCampus visit to ASU
URL:https://sistersoflife.org/event/asu-campus-visit-2/
LOCATION:ASU
CATEGORIES:Campus visit,Evangelization,Pray with Us
END:VEVENT
BEGIN:VEVENT
DTSTART;TZID=UTC:20240215T110000
DTEND;TZID=UTC:20240219T130000
DTSTAMP:20260425T081716
CREATED:20240115T173802Z
LAST-MODIFIED:20240115T173802Z
UID:12037-1707994800-1708347600@sistersoflife.org
SUMMARY:Lent Mission: Oregon!
DESCRIPTION:**Please join us at any of the below public events. We are unable to add any additional events during this trip. We look forward to seeing you while we’re in Oregon!** \nSchedule:\nThursday\, February 15th\n\nParish Lent Mission at St. Patrick’s in Portland – 6pm Mass\, 6:30pm Eucharistic Adoration\, 7pm Social hour\, 7:30pm Talk by the Sisters\, 8pm Q&A\n\nFriday\, February 16th\n\nUniversity of Oregon campus visit\nParish Lent Mission at St. Alice’s in Springfield – 12:15pm Mass\, 5pm Soup Supper\, 6pm Stations\, 6:30pm Talk by the Sisters\, 7pm Q&A\n\nSaturday\, February 17th\n\nOregon State University campus visit\nOregon 40 Days for Life – Rosary at SW 10th and Washington\nOregon Life Gala – 6:30pm Talk by a Sister (more details and tickets available here)\n\nSunday\, February 18th\n\nParish Lent Mission at St. Mary Cathedral in Portland – 9am Mass\nParish Lent Mission at St. Michael’s in Portland – 5:30pm Meet & Greet\, 6pm Talk by the Sisters\, 630pm Q & A\, 7pm Mass\, 8pm Coffee & Pastries
URL:https://sistersoflife.org/event/lent-mission-oregon/
LOCATION:Oregon
CATEGORIES:Campus visit,Evangelization,Parish Mission,Pray with Us
END:VEVENT
BEGIN:VEVENT
DTSTART;TZID=UTC:20240215T110000
DTEND;TZID=UTC:20240219T130000
DTSTAMP:20260425T081716
CREATED:20240115T174731Z
LAST-MODIFIED:20240213T185443Z
UID:12039-1707994800-1708347600@sistersoflife.org
SUMMARY:Lent Mission: North Carolina!
DESCRIPTION:**Please join us at any of the below public events. We are unable to add any additional events during this trip. We look forward to seeing you while we’re in North Carolina!** \nSchedule:\nFriday\, February 16th\n\nChrist the King School visit\nParish Lenten Mission at St. Thomas Aquinas’s in Charlotte  – 6pm Dinner\, 7pm Talk by the Sisters\, 7:30pm Stations of the Cross\n\nSaturday\, February 17th\n\nParish Catechist Retreat at St. Thomas Aquinas – 8:30am Holy Hour or Mass\, followed by refreshments in Aquinas Hall\, retreat from 9:30am-1pm\n\nSunday\, February 18th\n\nParish Lenten Mission at St. Peter’s in Greenville – 1-4pm\, talks by Sisters and music
URL:https://sistersoflife.org/event/lent-mission-north-carolina/
LOCATION:North Carolina
CATEGORIES:Campus visit,Evangelization,Parish Mission,Pray with Us,Retreats
END:VEVENT
BEGIN:VEVENT
DTSTART;TZID=UTC:20240215T110000
DTEND;TZID=UTC:20240219T130000
DTSTAMP:20260425T081716
CREATED:20240115T180206Z
LAST-MODIFIED:20240216T225213Z
UID:12038-1707994800-1708347600@sistersoflife.org
SUMMARY:Lent Mission: Houston\, Texas!
DESCRIPTION:**Please join us at any of the below public events. We are unable to add any additional events during this trip. We look forward to seeing you while we’re in Texas!** \nSchedule:\nThursday\, February 15th\n\nCafé Catholica Lite\, evening for young adults – 6:30pm Mass followed by dinner\, 7:30-8:15pm Vocation talk by Sisters\n\nFriday\, February 16th\n\nUniversity of Houston campus visit\nParish Lenten Mission at Co-Cathedral of the Sacred Heart – Sisters’ presence\n\nSaturday\, February 17th\n\nMorning of reflection with Pro-Life workers/volunteers at Holy Rosary Catholic Church (8am-1pm)\nParish Lenten Mission at Co-Cathedral of the Sacred Heart – 2-5pm with talks by the Sisters\, followed Mass at 5pm and dinner at 6:45pm \n\nSunday\, February 18th\n\nParish Lenten Mission in Spanish at Co-Cathedral of the Sacred Heart – 9am-1pm with talks by the Sisters\nParish Lenten Mission in Spanish at Co-Cathedral of the Sacred Heart – 1-2 pm talk by a Sister\nYoung Adult Retreat at St. Mary’s Seminary – 2:30-5:45pm
URL:https://sistersoflife.org/event/lent-mission-houston-texas/
LOCATION:Texas\, Texas
CATEGORIES:Campus visit,Evangelization,Parish Mission,Pray with Us,Retreats
END:VEVENT
BEGIN:VEVENT
DTSTART;TZID=UTC:20240215T153000
DTEND;TZID=UTC:20240219T110000
DTSTAMP:20260425T081716
CREATED:20240115T171422Z
LAST-MODIFIED:20240205T201927Z
UID:12032-1708011000-1708340400@sistersoflife.org
SUMMARY:Lent Mission: Massachusetts!
DESCRIPTION:**Please join us at any of the below public events. We are unable to add any additional events during this trip. We look forward to seeing you while we’re in Massachusetts!** \nSchedule:\nThursday\, February 15th\n\nSt. Benedict’s Classical Academy is hosting a Talk and Holy Hour at St Mary’s Parish in Holliston (8 Church Street Holliston\, MA 01746) – 7pm Talk by the Sisters\, 7:30pm Eucharistic Adoration (with music by the Sisters)\, followed by a reception. Register (for free) to attend here:https://www.eventbrite.com/e/holy-hour-with-the-sisters-of-life-tickets-775640831607\n\nFriday\, February 16th\n\nSaint Paul Diocesan Jr/Sr High School visit in Worcester\nCampus visit to College of the Holy Cross\n\nLunch with students\, talk at 1:30pm by the Sisters\, followed by Eucharistic Adoration\n\n\nHarvard Catholic Spring Undergrad Retreat\n\nSaturday\, February 17th\n\nHarvard Catholic Spring Undergrad Retreat\n\nSunday\, February 18th\n\nHarvard Catholic Spring Undergrad Retreat\nParish Lent Mission at Mary\, Queen of Apostles in Salem – 6pm Dinner\, 6:30pm Talk by the Sisters\, 7:30pm Eucharistic Adoration
URL:https://sistersoflife.org/event/lent-mission-massachusetts/
LOCATION:Massachusetts\, Massachusetts
CATEGORIES:Campus visit,Evangelization,Parish Mission,Pray with Us,Retreats
END:VEVENT
BEGIN:VEVENT
DTSTART;TZID=UTC:20240221T110000
DTEND;TZID=UTC:20240225T130000
DTSTAMP:20260425T081716
CREATED:20240124T193328Z
LAST-MODIFIED:20240124T193328Z
UID:12106-1708513200-1708866000@sistersoflife.org
SUMMARY:Sisters visiting Alabama!
DESCRIPTION:**Please join us at any of the below public events. We are unable to add any additional events during this trip. We look forward to seeing you while we’re in Alabama!** \nSchedule:\nWednesday\, February 21st – Sunday\, February 25th\n\n\n\nDetails forthcoming
URL:https://sistersoflife.org/event/sisters-visiting-alabama/
LOCATION:Alabama
CATEGORIES:Campus visit,Evangelization,Pray with Us
END:VEVENT
END:VCALENDAR